BEGIN:VCALENDAR
VERSION:2.0
PRODID:-//ChamberMaster//Event Calendar 2.0//EN
METHOD:PUBLISH
X-PUBLISHED-TTL:P3D
REFRESH-INTERVAL:P3D
CALSCALE:GREGORIAN
BEGIN:VEVENT
DTSTART;VALUE=DATE:20120817
DTEND;VALUE=DATE:20120818
TRANSP:TRANSPARENT
X-MICROSOFT-CDO-ALLDAYEVENT:TRUE
SUMMARY:2012 MAGNET Golf Outing
DESCRIPTION:2012 Magnet Golf Outing\n\n	Join Magnet for an afternoon of golf\, networking and fun at the 6th Annual Magnet Golf Outing. This year's scramble will be held Friday\, August 17th at The Oaks in Cottage Grove. All proceeds will go to improving Magnet programming and expanding opportunities as an organization. Prizes and contests will be offered throughout the day.\n\n	Beer offered on course sponsored by Capitol Brewery.\n\n	Click here to register. \n\n	 \n\n	We hope to see you on the course!\n\n	Schedule\n\n	12:30 Registration\n\n	2:00 Shotgun Start\n\n	6:30 Dinner reception and raffle\n\n	Dress Code: Collar Shirt\, no jeans\n\n	Questions or Comments:\n\n	Email info@madisonmagnet.org \n\n	\n\n	Signup Options\n\n	\n\n	Individual Fee   $80\n\n	4-Person Team Fee   $320\n\n	Entry fee + hole sponsorship   $230\n\n	4-person entry fee + hole sponsorship   $470\n\n	Dinner only   $15\n\n	Hole sponsorship   $150
X-ALT-DESC;FMTTYPE=text/html:<p class="MsoNormal" style="line-height: normal\; margin: 0in 0in 10pt\; mso-margin-top-alt: auto\; mso-margin-bottom-alt: auto\; mso-outline-level: 1">\n	<strong><span style="color: #696969"><span style="font-size: 12px"><span style="font-family: arial"><span style="mso-fareast-font-family: 'times new roman'\; mso-font-kerning: 18.0pt">2012 Magnet Golf Outing</span></span></span></span></strong><br />\n	<span style="color: #696969"><span style="font-size: 12px"><span style="font-family: arial"><span style="mso-fareast-font-family: 'times new roman'">Join Magnet for an afternoon of golf\, networking and fun at the 6<sup>th</sup> Annual Magnet Golf Outing. This year&rsquo\;s scramble will be held Friday\, August 17th at The Oaks in Cottage Grove.&nbsp\;All proceeds will go to improving Magnet programming and expanding opportunities as an organization. Prizes and contests will be offered throughout the day.</span></span></span></span><span style="font-family: 'times new roman'\, 'serif'\; font-size: 12pt\; mso-fareast-font-family: 'times new roman'"><o:p></o:p></span></p>\n<p class="MsoNormal" style="line-height: normal\; margin: 0in 0in 10pt\; mso-margin-top-alt: auto\; mso-margin-bottom-alt: auto">\n	<span style="color: #696969"><span style="font-size: 12px"><span style="font-family: arial"><span style="mso-fareast-font-family: 'times new roman'">Beer offered on course sponsored by Capitol Brewery.</span></span></span></span><span style="font-family: 'times new roman'\, 'serif'\; font-size: 12pt\; mso-fareast-font-family: 'times new roman'"><o:p></o:p></span></p>\n<p class="MsoNormal" style="line-height: normal\; margin: 0in 0in 10pt\; mso-margin-top-alt: auto\; mso-margin-bottom-alt: auto\; mso-outline-level: 3">\n	<span style="font-size: 12px"><span style="font-family: arial"><a href="http://www.madisonmagnet.org/register-for-the-6th-annual-magnet-golf-outing/" title="Register for the 6th Annual Magnet Golf Outing"><span style="color: #696969"><span style="mso-fareast-font-family: 'times new roman'">Click here to register. </span></span></a></span></span></p>\n<p class="MsoNormal" style="line-height: normal\; margin: 0in 0in 10pt\; mso-margin-top-alt: auto\; mso-margin-bottom-alt: auto\; mso-outline-level: 3">\n	&nbsp\;</p>\n<p class="MsoNormal" style="line-height: normal\; margin: 0in 0in 10pt\; mso-margin-top-alt: auto\; mso-margin-bottom-alt: auto">\n	<span style="color: #696969"><span style="font-size: 12px"><span style="font-family: arial"><span style="mso-fareast-font-family: 'times new roman'">We hope to see you on the course!</span></span></span></span></p>\n<p class="MsoNormal" style="line-height: normal\; margin: 0in 0in 10pt\; mso-margin-top-alt: auto\; mso-margin-bottom-alt: auto">\n	<span style="color: #696969"><span style="font-size: 12px"><span style="font-family: arial"><span style="mso-fareast-font-family: 'times new roman'">Schedule</span></span></span></span><span style="font-family: 'times new roman'\, 'serif'\; font-size: 12pt\; mso-fareast-font-family: 'times new roman'"><o:p></o:p></span></p>\n<p class="MsoNormal" style="line-height: normal\; margin: 0in 0in 10pt\; mso-margin-top-alt: auto\; mso-margin-bottom-alt: auto">\n	<span style="color: #696969"><span style="font-size: 12px"><span style="font-family: arial"><span style="mso-fareast-font-family: 'times new roman'">12:30 Registration<br />\n	2:00 Shotgun Start<br />\n	6:30 Dinner reception and raffle</span></span></span></span><span style="font-family: 'times new roman'\, 'serif'\; font-size: 12pt\; mso-fareast-font-family: 'times new roman'"><o:p></o:p></span></p>\n<p class="MsoNormal" style="line-height: normal\; margin: 0in 0in 10pt\; mso-margin-top-alt: auto\; mso-margin-bottom-alt: auto">\n	<span style="color: #696969"><span style="font-size: 12px"><span style="font-family: arial"><span style="mso-fareast-font-family: 'times new roman'">Dress Code: Collar Shirt\, no jeans</span></span></span></span><span style="font-family: 'times new roman'\, 'serif'\; font-size: 12pt\; mso-fareast-font-family: 'times new roman'"><o:p></o:p></span></p>\n<p class="MsoNormal" style="line-height: normal\; margin: 0in 0in 10pt\; mso-margin-top-alt: auto\; mso-margin-bottom-alt: auto">\n	<span style="color: #696969"><span style="font-size: 12px"><span style="font-family: arial"><span style="mso-fareast-font-family: 'times new roman'">Questions or Comments:</span></span></span></span><span style="font-family: 'times new roman'\, 'serif'\; font-size: 12pt\; mso-fareast-font-family: 'times new roman'"><o:p></o:p></span></p>\n<p class="MsoNormal" style="line-height: normal\; margin: 0in 0in 10pt\; mso-margin-top-alt: auto\; mso-margin-bottom-alt: auto">\n	<span style="font-size: 12px"><span style="font-family: arial"><span style="color: #696969"><span style="mso-fareast-font-family: 'times new roman'">Email </span></span><a href="mailto:%20info@madisonmagnet.org%20"><span style="color: #696969"><span style="mso-fareast-font-family: 'times new roman'">info@madisonmagnet.org </span></span></a></span></span></p>\n<p class="MsoNormal" style="line-height: normal\; margin: 0in 0in 10pt\; mso-margin-top-alt: auto\; mso-margin-bottom-alt: auto">\n	<span style="color: #696969"><span style="font-family: 'times new roman'\, 'serif'\; font-size: 12pt\; mso-fareast-font-family: 'times new roman'"><o:p></o:p></span></span></p>\n<p class="MsoNormal" style="line-height: normal\; margin: 0in 0in 10pt\; mso-margin-top-alt: auto\; mso-margin-bottom-alt: auto">\n	<span style="color: #696969"><span style="font-size: 12px"><span style="font-family: arial"><span style="mso-fareast-font-family: 'times new roman'">Signup Options</span></span></span></span></p>\n<p class="MsoNormal" style="line-height: normal\; margin: 0in 0in 10pt\; mso-margin-top-alt: auto\; mso-margin-bottom-alt: auto">\n	<span style="font-family: 'times new roman'\, 'serif'\; font-size: 12pt\; mso-fareast-font-family: 'times new roman'"><o:p></o:p></span></p>\n<p class="MsoNormal" style="line-height: normal\; margin: 0in 0in 10pt\; mso-margin-top-alt: auto\; mso-margin-bottom-alt: auto">\n	<span style="color: #696969"><span style="font-size: 12px"><span style="font-family: arial"><span style="mso-fareast-font-family: 'times new roman'">Individual Fee &ndash\; $80<br />\n	4-Person Team Fee &ndash\; $320<br />\n	Entry fee + hole sponsorship &ndash\; $230<br />\n	4-person entry fee + hole sponsorship &ndash\; $470<br />\n	Dinner only &ndash\; $15<br />\n	Hole sponsorship &ndash\; $150</span></span></span></span><span style="font-family: 'times new roman'\, 'serif'\; font-size: 12pt\; mso-fareast-font-family: 'times new roman'"><o:p></o:p></span></p>\n
LOCATION:The Oaks Golf Course (Map)
UID:e.1220.2104
SEQUENCE:3
DTSTAMP:20260425T202606Z
URL:http://greatermadisonchamber.chambermaster.com/events/details/2012-magnet-golf-outing-08-17-2012-2104
END:VEVENT

END:VCALENDAR
