BEGIN:VCALENDAR
VERSION:2.0
PRODID:-//ChamberMaster//Event Calendar 2.0//EN
METHOD:PUBLISH
X-PUBLISHED-TTL:P3D
REFRESH-INTERVAL:P3D
CALSCALE:GREGORIAN
BEGIN:VEVENT
DTSTART:20130307T140000Z
DTEND:20130308T220000Z
X-MICROSOFT-CDO-ALLDAYEVENT:FALSE
SUMMARY:2013 Excellence at Work Conference
DESCRIPTION:Don't miss this annual high impact\, high energy\, high value event!  Hear best practices in organizational innovation\, and learn what drives and sustains performance excellence across all sectors - business\, health care\, education\, government\, nonprofit\, service\, manufacturing\, etc.  We expect 20 leaders from high performing organizations to share how they have improved leadership\, planning\, customer focus\, measurement/knowledge management\, workforce processes\, operations and results.  Several speakers are from recipients of the prestigious Malcolm Baldrige National Quality Award\, representing organizations that have demonstrated world class performance in their processes and outcomes.  For more information\, call (608) 663-5300 or visit www.wisquality.org.
X-ALT-DESC;FMTTYPE=text/html:Don&#39\;t miss this annual high impact\, high energy\, high value event!&nbsp\; Hear best practices in organizational innovation\, and learn what drives and sustains performance excellence across all sectors - business\, health care\, education\, government\, nonprofit\, service\, manufacturing\, etc.&nbsp\; We expect 20 leaders from high performing organizations to share how they have improved leadership\, planning\, customer focus\, measurement/knowledge management\, workforce processes\, operations and results.&nbsp\; Several speakers are from recipients of the prestigious Malcolm Baldrige National Quality Award\, representing organizations that have demonstrated world class performance in their processes and outcomes.&nbsp\; For more information\, call (608) 663-5300 or visit <a href="http://www.wisquality.org">www.wisquality.org</a>.
LOCATION:American Family Training Center 6000 American Family Parkway\, Madison\, WI\, 53783
UID:e.1220.2631
SEQUENCE:3
DTSTAMP:20260423T000337Z
URL:http://greatermadisonchamber.chambermaster.com/events/details/2013-excellence-at-work-conference-03-07-2013-2631
END:VEVENT

END:VCALENDAR
