BEGIN:VCALENDAR
VERSION:2.0
PRODID:-//ChamberMaster//Event Calendar 2.0//EN
METHOD:PUBLISH
X-PUBLISHED-TTL:P3D
REFRESH-INTERVAL:P3D
CALSCALE:GREGORIAN
BEGIN:VEVENT
DTSTART:20140312T133000Z
DTEND:20140312T213000Z
X-MICROSOFT-CDO-ALLDAYEVENT:FALSE
SUMMARY:2014 Excellence at Work Conference
DESCRIPTION:Our annual conference is designed to motivate\, inspire and provide practical tools and techniques to help your organization be the best it can be! Whether your interest is in Baldrige\, LEAN\, or optimizing workplace or personal performance\, our speakers will energize you and your team. This conference is a meeting point where the performance-minded develop skills\, network and help move Wisconsin Forward one organization at a time. Learn best practices from role-model organizations in the health care\, manufacturing\, non-profit\, government\, education and service sectors. The tools and training you will receive at the Conference will help elevate your performance and increase your organization's productivity.
X-ALT-DESC;FMTTYPE=text/html:Our annual conference is designed to motivate\, inspire and provide practical tools and techniques to help your organization be the best it can be! Whether your interest is in Baldrige\, LEAN\, or optimizing workplace or personal performance\, our speakers will energize you and your team. This conference is a meeting point where the performance-minded develop skills\, network and help move Wisconsin Forward one organization at a time. Learn best practices from role-model organizations in the health care\, manufacturing\, non-profit\, government\, education and service sectors. The tools and training you will receive at the Conference will help elevate your performance and increase your organization&#39\;s productivity.
LOCATION:American Family Conference Center 6000 American Parkway Madison\, WI 53783
UID:e.1220.3591
SEQUENCE:3
DTSTAMP:20260421T212525Z
URL:http://greatermadisonchamber.chambermaster.com/events/details/2014-excellence-at-work-conference-03-12-2014-3591
END:VEVENT

END:VCALENDAR
