BEGIN:VCALENDAR
VERSION:2.0
PRODID:-//ChamberMaster//Event Calendar 2.0//EN
METHOD:PUBLISH
X-PUBLISHED-TTL:P3D
REFRESH-INTERVAL:P3D
CALSCALE:GREGORIAN
BEGIN:VEVENT
DTSTART:20130405T230000Z
DTEND:20130503T020000Z
X-MICROSOFT-CDO-ALLDAYEVENT:FALSE
SUMMARY:2D Animation for Gaming
DESCRIPTION:Design and animate your own characters\, backgrounds\, props\, sprite sheets\, and special effects such as explosions and collision animations. Designed for artists who want to learn animation or animators who want to explore 2D game creation.
X-ALT-DESC;FMTTYPE=text/html:Design and animate your own characters\, backgrounds\, props\, sprite sheets\, and special effects such as explosions and collision animations. Designed for artists who want to learn animation or animators who want to explore 2D game creation.
LOCATION:211 North Carrol St. Madison\, WI 53703
UID:e.1220.2800
SEQUENCE:3
DTSTAMP:20260421T212525Z
URL:http://greatermadisonchamber.chambermaster.com/events/details/2d-animation-for-gaming-04-05-2013-2800
END:VEVENT

END:VCALENDAR
