BEGIN:VCALENDAR
VERSION:2.0
PRODID:-//ChamberMaster//Event Calendar 2.0//EN
METHOD:PUBLISH
X-PUBLISHED-TTL:P3D
REFRESH-INTERVAL:P3D
CALSCALE:GREGORIAN
BEGIN:VEVENT
DTSTART:20130713T140000Z
DTEND:20130727T170000Z
X-MICROSOFT-CDO-ALLDAYEVENT:FALSE
SUMMARY:2D Animation Workshop
DESCRIPTION:Learn how to design and animate your own 2D animated character using the techniques of professional animators. Students will create their own background and animate the character with sound using 2D animation software.
X-ALT-DESC;FMTTYPE=text/html:<p>\n	Learn how to design and animate your own 2D animated character using the techniques of professional animators. Students will create their own background and animate the character with sound using 2D animation software.</p>\n
LOCATION:302 S. Gammon Rd.\, Madison\, WI. 53717
UID:e.1220.2953
SEQUENCE:3
DTSTAMP:20260421T113330Z
URL:http://greatermadisonchamber.chambermaster.com/events/details/2d-animation-workshop-07-13-2013-2953
END:VEVENT

END:VCALENDAR
