BEGIN:VCALENDAR
VERSION:2.0
PRODID:-//ChamberMaster//Event Calendar 2.0//EN
METHOD:PUBLISH
X-PUBLISHED-TTL:P3D
REFRESH-INTERVAL:P3D
CALSCALE:GREGORIAN
BEGIN:VEVENT
DTSTART:20131028T230000Z
DTEND:20131210T023000Z
X-MICROSOFT-CDO-ALLDAYEVENT:FALSE
SUMMARY:Accounting Intro
DESCRIPTION:Designed for students who have no prior accounting experience and who are not\n\nnecessarily on an accounting career path\, but need an understanding of basic\n\naccounting principles. This is an excellent companion course to learning software\n\nsuch as Quickbooks.
X-ALT-DESC;FMTTYPE=text/html:Designed for students who have no prior accounting experience and who are not<br />\nnecessarily on an accounting career path\, but need an understanding of basic<br />\naccounting principles. This is an excellent companion course to learning software<br />\nsuch as Quickbooks.
LOCATION:Madison College West\, 302 S. Gammon
UID:e.1220.3320
SEQUENCE:3
DTSTAMP:20260421T055306Z
URL:http://greatermadisonchamber.chambermaster.com/events/details/accounting-intro-10-28-2013-3320
END:VEVENT

END:VCALENDAR
