BEGIN:VCALENDAR
VERSION:2.0
PRODID:-//ChamberMaster//Event Calendar 2.0//EN
METHOD:PUBLISH
X-PUBLISHED-TTL:P3D
REFRESH-INTERVAL:P3D
CALSCALE:GREGORIAN
BEGIN:VEVENT
DTSTART:20130316T140000Z
DTEND:20130316T174500Z
X-MICROSOFT-CDO-ALLDAYEVENT:FALSE
SUMMARY:ACT Practice Test
DESCRIPTION:In order to master the ACT test so students can get the highest score possible\, we offer ACT Practice tests (no writing component) for $30 throughout the year. We administer the test\, grade it\, and give detailed feedback.\n\n	Spring ACT Practice Test Dates:\n\n	March 16\n\n	April 27\n\n	May 18\n\n	The tests run from 9am-12:45pm. We recommend you arrive at least 15 minutes prior to the start of the test. Please visit our website to register: galined.com/testprep/act and check out our facebook page: facebook.com/GalinEducation for an exclusive offer for our Facebook fans.
X-ALT-DESC;FMTTYPE=text/html:<p style="margin: 0px 0px 14px\; padding: 0px\; color: rgb(0\, 0\, 0)\; line-height: 18px\; font-family: Arial\, sans-serif\;">\n	In order to master the ACT test so students can get the highest score possible\, we offer ACT Practice tests (no writing component) for $30 throughout the year. We administer the test\, grade it\, and give detailed feedback.</p>\n<p style="margin: 0px 0px 14px\; padding: 0px\; color: rgb(0\, 0\, 0)\; line-height: 18px\; font-family: Arial\, sans-serif\;">\n	<strong style="margin: 0px\; padding: 0px\;">Spring ACT Practice Test Dates:</strong><br style="margin: 0px\; padding: 0px\;" />\n	March 16<br style="margin: 0px\; padding: 0px\;" />\n	April 27<br style="margin: 0px\; padding: 0px\;" />\n	May 18</p>\n<p style="margin: 0px 0px 14px\; padding: 0px\; color: rgb(0\, 0\, 0)\; line-height: 18px\; font-family: Arial\, sans-serif\;">\n	<strong style="margin: 0px\; padding: 0px\;">The tests run from 9am-12:45pm.&nbsp\;</strong>We recommend you arrive at least 15 minutes prior to the start of the test. Please visit our website to register: galined.com/testprep/act and check out our facebook page: facebook.com/GalinEducation for an exclusive offer for our Facebook fans.&nbsp\;</p>\n<div>\n	&nbsp\;</div>\n
LOCATION:Edgewood College (Predolin Hall\, Rm. 116) 1000 Edgewood College Dr Madison\, WI 53711
UID:e.1220.2718
SEQUENCE:3
DTSTAMP:20260423T052932Z
URL:http://greatermadisonchamber.chambermaster.com/events/details/act-practice-test-03-16-2013-2718
END:VEVENT

END:VCALENDAR
