BEGIN:VCALENDAR
VERSION:2.0
PRODID:-//ChamberMaster//Event Calendar 2.0//EN
METHOD:PUBLISH
X-PUBLISHED-TTL:P3D
REFRESH-INTERVAL:P3D
CALSCALE:GREGORIAN
BEGIN:VEVENT
DTSTART:20130417T230000Z
DTEND:20130516T020000Z
X-MICROSOFT-CDO-ALLDAYEVENT:FALSE
SUMMARY:Adobe Dreamweaver CS6 Intro
DESCRIPTION:Students should be able to design a simple website. Topics include HTML coding\, layout\, placing pictures and previewing pages. Intermediate-level computer skills required.
X-ALT-DESC;FMTTYPE=text/html:<p>\n	Students should be able to design a simple website. Topics include HTML coding\, layout\, placing pictures and previewing pages. Intermediate-level computer skills required.</p>\n
LOCATION:211 N. Carroll St.\, Madison\, WI 53703
UID:e.1220.2761
SEQUENCE:3
DTSTAMP:20260423T033417Z
URL:http://greatermadisonchamber.chambermaster.com/events/details/adobe-dreamweaver-cs6-intro-04-17-2013-2761
END:VEVENT

END:VCALENDAR
