BEGIN:VCALENDAR
VERSION:2.0
PRODID:-//ChamberMaster//Event Calendar 2.0//EN
METHOD:PUBLISH
X-PUBLISHED-TTL:P3D
REFRESH-INTERVAL:P3D
CALSCALE:GREGORIAN
BEGIN:VEVENT
DTSTART:20131029T230000Z
DTEND:20131127T030000Z
X-MICROSOFT-CDO-ALLDAYEVENT:FALSE
SUMMARY:Adobe Dreamweaver CS6 Intro
DESCRIPTION:Learn the basics of creating your own web pages with Adobe Dreamweaver. Upon\n\nfinishing this course students should be able to design a simple web site. Topics\n\ninclude basic HTML coding\, selecting a page layout\, saving pages\, inserting\n\ntext\, links\, and pictures\, choosing text font\, color and size\, changing headings\n\nand previewing pages. Intermediate-level computer skills required. Previous\n\nknowledge of HTML is encouraged but not required.
X-ALT-DESC;FMTTYPE=text/html:Learn the basics of creating your own web pages with Adobe Dreamweaver. Upon<br />\nfinishing this course students should be able to design a simple web site. Topics<br />\ninclude basic HTML coding\, selecting a page layout\, saving pages\, inserting<br />\ntext\, links\, and pictures\, choosing text font\, color and size\, changing headings<br />\nand previewing pages. Intermediate-level computer skills required. Previous<br />\nknowledge of HTML is encouraged but not required.
LOCATION:Madison College West\, 302 S. Gammon
UID:e.1220.3348
SEQUENCE:3
DTSTAMP:20260421T114748Z
URL:http://greatermadisonchamber.chambermaster.com/events/details/adobe-dreamweaver-cs6-intro-10-29-2013-3348
END:VEVENT

END:VCALENDAR
