BEGIN:VCALENDAR
VERSION:2.0
PRODID:-//ChamberMaster//Event Calendar 2.0//EN
METHOD:PUBLISH
X-PUBLISHED-TTL:P3D
REFRESH-INTERVAL:P3D
CALSCALE:GREGORIAN
BEGIN:VEVENT
DTSTART:20130425T230000Z
DTEND:20130524T020000Z
X-MICROSOFT-CDO-ALLDAYEVENT:FALSE
SUMMARY:Adobe Illustrator CS6 Intro
DESCRIPTION:Students will become familiar with the workspace\, create backgrounds\, work with objects\, text\, fills and strokes\, styles\, tools\, shapes\, and more.
X-ALT-DESC;FMTTYPE=text/html:<p>\n	Students will become familiar with the workspace\, create backgrounds\, work with objects\, text\, fills and strokes\, styles\, tools\, shapes\, and more.</p>\n
LOCATION:302 S. Gammon Rd.\, Madison\, WI 53717
UID:e.1220.2758
SEQUENCE:3
DTSTAMP:20260423T043904Z
URL:http://greatermadisonchamber.chambermaster.com/events/details/adobe-illustrator-cs6-intro-04-25-2013-2758
END:VEVENT

END:VCALENDAR
