BEGIN:VCALENDAR
VERSION:2.0
PRODID:-//ChamberMaster//Event Calendar 2.0//EN
METHOD:PUBLISH
X-PUBLISHED-TTL:P3D
REFRESH-INTERVAL:P3D
CALSCALE:GREGORIAN
BEGIN:VEVENT
DTSTART:20130314T230000Z
DTEND:20130411T170000Z
X-MICROSOFT-CDO-ALLDAYEVENT:FALSE
SUMMARY:Adobe InDesign CS6 Intro
DESCRIPTION:Learn how to create professional looking flyers\, posters\, and more. Students will learn how to apply design principles to their work. Topics include document set-up\, saving\, master pages\, working with color\, importing images and working with text.
X-ALT-DESC;FMTTYPE=text/html:<p>\n	Learn how to create professional looking flyers\, posters\, and more. Students will learn how to apply design principles to their work. Topics include document set-up\, saving\, master pages\, working with color\, importing images and working with text.</p>\n
LOCATION:211 N. Carroll St.\, Madison\, WI. 53703
UID:e.1220.2728
SEQUENCE:3
DTSTAMP:20260426T005855Z
URL:http://greatermadisonchamber.chambermaster.com/events/details/adobe-indesign-cs6-intro-03-14-2013-2728
END:VEVENT

END:VCALENDAR
