BEGIN:VCALENDAR
VERSION:2.0
PRODID:-//ChamberMaster//Event Calendar 2.0//EN
METHOD:PUBLISH
X-PUBLISHED-TTL:P3D
REFRESH-INTERVAL:P3D
CALSCALE:GREGORIAN
BEGIN:VEVENT
DTSTART:20130717T230000Z
DTEND:20130815T020000Z
X-MICROSOFT-CDO-ALLDAYEVENT:FALSE
SUMMARY:Adobe InDesign CS6 Intro
DESCRIPTION:Learn how to create professional looking flyer\, posters\, and more. students will learn how to apply design principles to their work. Topics include document set-up\, saving\, master pages\, working with color\, importing images and working with text.\n\nThis is a list of classes scheduled at various Madison Area Technical College locations. For complete\, up-to-date information - including availability - please search for classes through myMadisonCollege. This class is not eligible for financial aid. Contact the Financial Aid Office for more information. Additional course and registration information or phone (608) 258-2301
X-ALT-DESC;FMTTYPE=text/html:Learn how to create professional looking flyer\, posters\, and more. students will learn how to apply design principles to their work. Topics include document set-up\, saving\, master pages\, working with color\, importing images and working with text.<br />\nThis is a list of classes scheduled at various Madison Area Technical College locations. For complete\, up-to-date information - including availability - please <a href="https://mymadisoncollege.swcportal.org/psp/pamatc/EMPLOYEE/SA/c/COMMUNITY_ACCESS.CLASS_SEARCH.GBL?FolderPath=PORTAL_ROOT_OBJECT.Z_MATC_SEARCH_COURSES&amp\;IsFolder=false&amp\;IgnoreParamTempl=FolderPath%2cIsFolder" target="_blank">search for classes through myMadisonCollege</a>. This class is not eligible for financial aid. <a href="http://madisoncollege.edu/financial-aid" target="_blank">Contact the Financial Aid Office</a> for more information. <a href="http://madisoncollege.edu/courses">Additional course and registration information</a> or phone (608) 258-2301
LOCATION:211 N. Carroll St. Madison\, WI 53703
UID:e.1220.3042
SEQUENCE:3
DTSTAMP:20260420T063940Z
URL:http://greatermadisonchamber.chambermaster.com/events/details/adobe-indesign-cs6-intro-07-17-2013-3042
END:VEVENT

END:VCALENDAR
