BEGIN:VCALENDAR
VERSION:2.0
PRODID:-//ChamberMaster//Event Calendar 2.0//EN
METHOD:PUBLISH
X-PUBLISHED-TTL:P3D
REFRESH-INTERVAL:P3D
CALSCALE:GREGORIAN
BEGIN:VEVENT
DTSTART:20131002T230000Z
DTEND:20131031T020000Z
X-MICROSOFT-CDO-ALLDAYEVENT:FALSE
SUMMARY:Adobe InDesign CS6 Intro
DESCRIPTION:Create professional looking flyers\, posters and more with this powerful program.\n\nStudents will learn about the principles of design and how to apply them to\n\ntheir work. Topics include how to set up a document\, save files\, create master\n\npages\, use rules\, work with color\, import images\, work with text and create text\n\nin columns. Intermediate-level computer skills required.
X-ALT-DESC;FMTTYPE=text/html:Create professional looking flyers\, posters and more with this powerful program.<br />\nStudents will learn about the principles of design and how to apply them to<br />\ntheir work. Topics include how to set up a document\, save files\, create master<br />\npages\, use rules\, work with color\, import images\, work with text and create text<br />\nin columns. Intermediate-level computer skills required.
LOCATION:Downtown Education Center\, 211 North Carroll St.
UID:e.1220.3341
SEQUENCE:3
DTSTAMP:20260421T100055Z
URL:http://greatermadisonchamber.chambermaster.com/events/details/adobe-indesign-cs6-intro-10-02-2013-3341
END:VEVENT

END:VCALENDAR
