BEGIN:VCALENDAR
VERSION:2.0
PRODID:-//ChamberMaster//Event Calendar 2.0//EN
METHOD:PUBLISH
X-PUBLISHED-TTL:P3D
REFRESH-INTERVAL:P3D
CALSCALE:GREGORIAN
BEGIN:VEVENT
DTSTART:20130927T230000Z
DTEND:20131102T020000Z
X-MICROSOFT-CDO-ALLDAYEVENT:FALSE
SUMMARY:Adobe Photoshop Elements Intro
DESCRIPTION:Adobe Photoshop Elements will be used to demonstrate how digital photos can be\n\nedited\, enhanced\, developed\, and stored. Topics will include opening and saving\n\nfiles\, file types\, using templates\, editing and retouching photos and adding text to\n\nphotos. This class does not demonstrate photo-taking techniques\; it is primarily\n\ndesigned for working with photos after they have been taken. Students are expected\n\nto be familiar with MS Windows.
X-ALT-DESC;FMTTYPE=text/html:Adobe Photoshop Elements will be used to demonstrate how digital photos can be<br />\nedited\, enhanced\, developed\, and stored. Topics will include opening and saving<br />\nfiles\, file types\, using templates\, editing and retouching photos and adding text to<br />\nphotos. This class does not demonstrate photo-taking techniques\; it is primarily<br />\ndesigned for working with photos after they have been taken. Students are expected<br />\nto be familiar with MS Windows.
LOCATION:Downtown Education Center\, 211 North Carroll St.
UID:e.1220.3352
SEQUENCE:3
DTSTAMP:20260421T040435Z
URL:http://greatermadisonchamber.chambermaster.com/events/details/adobe-photoshop-elements-intro-09-27-2013-3352
END:VEVENT

END:VCALENDAR
