BEGIN:VCALENDAR
VERSION:2.0
PRODID:-//ChamberMaster//Event Calendar 2.0//EN
METHOD:PUBLISH
X-PUBLISHED-TTL:P3D
REFRESH-INTERVAL:P3D
CALSCALE:GREGORIAN
BEGIN:VEVENT
DTSTART:20120921T000000Z
DTEND:20120921T020000Z
X-MICROSOFT-CDO-ALLDAYEVENT:FALSE
SUMMARY:Anthony & Leslie Cao Performance
DESCRIPTION:You never know what you're in for when the CAOs take the stage\, except a surprising musical variety that is sure to entertain. Soulful singer-songwriters at heart\, Anthony and Leslie Cao bring their musical training and extensive experience in many genres to the piano and the microphone. The CAOs have been cultivating their nonstop\, all-request shows in front of packed audiences for nearly ten years\, and you can regularly check them out with Piano Fondue Dueling Pianos at the Ivory Room Piano Bar. With a repertoire as diverse as almost any audience\, the CAOs can mold just about any song request to their unique\, soulful sound.\n\nThey remain active in the Madison music scene in other projects as well. Leslie has been seen recently on stage with Four Seasons Theatre and Jigsaw Entertainment. Anthony is the Choir Director at Madison West HS\, Chorus Master for Madison Opera\, and Artistic Director for Madison Chamber Choir.
X-ALT-DESC;FMTTYPE=text/html:<span style="color:#696969\;"><span style="font-size: 12px\; "><span style="font-family: arial\; ">You never know what you&rsquo\;re in for when the CAOs take the stage\, except a surprising musical variety that is sure to entertain. Soulful singer-songwriters at heart\, Anthony and Leslie Cao bring their musical training and extensive experience in many genres to the piano and the microphone. The CAOs have been cultivating their nonstop\, all-request shows in front of packed audiences for nearly ten years\, and you can regularly check them out with Piano Fondue Dueling Pianos at the Ivory Room Piano Bar. With a repertoire as diverse as almost any audience\, the CAOs can mold just about any song request to their unique\, soulful sound.<br />\nThey remain active in the Madison music scene in other projects as well. Leslie has been seen recently on stage with Four Seasons Theatre and Jigsaw Entertainment. Anthony is the Choir Director at Madison West HS\, Chorus Master for Madison Opera\, and Artistic Director for Madison Chamber Choir.</span></span></span><br />\n
LOCATION:Heid Music 7948 Tree Lane Madison WI 53717
UID:e.1220.2370
SEQUENCE:3
DTSTAMP:20260425T153928Z
URL:http://greatermadisonchamber.chambermaster.com/events/details/anthony-leslie-cao-performance-09-20-2012-2370
END:VEVENT

END:VCALENDAR
