BEGIN:VCALENDAR
VERSION:2.0
PRODID:-//ChamberMaster//Event Calendar 2.0//EN
METHOD:PUBLISH
X-PUBLISHED-TTL:P3D
REFRESH-INTERVAL:P3D
CALSCALE:GREGORIAN
BEGIN:VEVENT
DTSTART:20130518T140000Z
DTEND:20130518T170000Z
X-MICROSOFT-CDO-ALLDAYEVENT:FALSE
SUMMARY:Arthritis Walk - Dane County
DESCRIPTION:More than just an event\, Arthritis Walk  is a celebration of year-round movement. It is building awareness for this debilitating disease and raising necessary funds to drive arthritis research\, education and life improvement programs\; it also continues the Arthritis Foundation's search to find a cure to the nation's leading cause of disability.\n\n\n\nOur mission is to improve lives through leadership in the prevention\, control and cure of arthritis and related diseases. When you join us at the Arthritis Walk \, you're not moving alone -- you are becoming part of a community looking to achieve better health and change lives at the same time. We look forward to seeing you at the Arthritis Walk!
X-ALT-DESC;FMTTYPE=text/html:<span style="font-family: Verdana\; font-size: 10pt\;">More than just an event\, Arthritis Walk&reg\; is a celebration of year-round movement. It is building awareness for this debilitating disease and raising necessary funds to drive arthritis research\, education and life improvement programs\; it also continues the Arthritis Foundation&rsquo\;s search to find a cure to the nation&rsquo\;s leading cause of disability.<br />\n<br />\nOur mission is to improve lives through leadership in the prevention\, control and cure of arthritis and related diseases. When you join us at the Arthritis Walk&reg\;\, you&#39\;re not moving alone -- you are becoming part of a community looking to achieve better health and change lives at the same time. We look forward to seeing you at the Arthritis Walk!</span>
LOCATION:Olin Park - Madison
UID:e.1220.2796
SEQUENCE:3
DTSTAMP:20260422T092702Z
URL:http://greatermadisonchamber.chambermaster.com/events/details/arthritis-walk-dane-county-05-18-2013-2796
END:VEVENT

END:VCALENDAR
