BEGIN:VCALENDAR
VERSION:2.0
PRODID:-//ChamberMaster//Event Calendar 2.0//EN
METHOD:PUBLISH
X-PUBLISHED-TTL:P3D
REFRESH-INTERVAL:P3D
CALSCALE:GREGORIAN
BEGIN:VEVENT
DTSTART:20130415T230000Z
DTEND:20130521T020000Z
X-MICROSOFT-CDO-ALLDAYEVENT:FALSE
SUMMARY:AutoCAD Intermediate
DESCRIPTION:Students are expected to have a basic understanding of AutoCAD and be familiar with Microsoft Windows. In this class students will build on the knowledge they already have of AutoCAD\, while discussing and demonstrating the process of creating three-dimensional models. Students will learn how to customize the software to suit their needs and design methods\, while incorporating AutoCAD in their design process using graphic standards. This intermediate course will cover converting 2D information to 3D\, primitives\, solids\, surfaces\, editing and manipulation. Students will be prepared to learn advance topics\, such as rendering\, materials\, and lighting at the end of this course.
X-ALT-DESC;FMTTYPE=text/html:<p>\n	Students are expected to have a basic understanding of AutoCAD and be familiar with Microsoft Windows. In this class students will build on the knowledge they already have of AutoCAD\, while discussing and demonstrating the process of creating three-dimensional models. Students will learn how to customize the software to suit their needs and design methods\, while incorporating AutoCAD in their design process using graphic standards. This intermediate course will cover converting 2D information to 3D\, primitives\, solids\, surfaces\, editing and manipulation. Students will be prepared to learn advance topics\, such as rendering\, materials\, and lighting at the end of this course.</p>\n
LOCATION:302 S. Gammon Road Madison\, WI 53718
UID:e.1220.2681
SEQUENCE:3
DTSTAMP:20260424T165312Z
URL:http://greatermadisonchamber.chambermaster.com/events/details/autocad-intermediate-04-15-2013-2681
END:VEVENT

END:VCALENDAR
