BEGIN:VCALENDAR
VERSION:2.0
PRODID:-//ChamberMaster//Event Calendar 2.0//EN
METHOD:PUBLISH
X-PUBLISHED-TTL:P3D
REFRESH-INTERVAL:P3D
CALSCALE:GREGORIAN
BEGIN:VEVENT
DTSTART:20130603T230000Z
DTEND:20130709T020000Z
X-MICROSOFT-CDO-ALLDAYEVENT:FALSE
SUMMARY:AutoCad Intro
DESCRIPTION:This is an intro to Computer Aided Design using industry-standard software Autodesk AutoCAD and will cover document setup\, customizations\, 2-dimensional drawing\, modifications\, dimensioning\, and document layout for printing. Requires Windows skills.
X-ALT-DESC;FMTTYPE=text/html:<p>\n	This is an intro to Computer Aided Design using industry-standard software Autodesk AutoCAD and will cover document setup\, customizations\, 2-dimensional drawing\, modifications\, dimensioning\, and document layout for printing. Requires Windows skills.</p>\n
LOCATION:211 North Carrol Street\, Madison\, WI. 53703
UID:e.1220.2919
SEQUENCE:3
DTSTAMP:20260420T160856Z
URL:http://greatermadisonchamber.chambermaster.com/events/details/autocad-intro-06-03-2013-2919
END:VEVENT

END:VCALENDAR
