BEGIN:VCALENDAR
VERSION:2.0
PRODID:-//ChamberMaster//Event Calendar 2.0//EN
METHOD:PUBLISH
X-PUBLISHED-TTL:P3D
REFRESH-INTERVAL:P3D
CALSCALE:GREGORIAN
BEGIN:VEVENT
DTSTART:20130710T223000Z
DTEND:20130718T003000Z
X-MICROSOFT-CDO-ALLDAYEVENT:FALSE
SUMMARY:Backyard Chickens
DESCRIPTION:Friendly pets\, fresh eggs\, and fertilizer! Learn about the care and feeding of city chickens\, choosing chicks and hens\, coop design\, Dane County resources\, disease management\, winter preparations and taking a field trip to observe real backyard chickens.\n\n	This is a list of classes scheduled at various Madison Area Technical College locations. For complete\, up-to-date information - including availability - please search for classes through myMadisonCollege. This class is not eligible for financial aid. Contact the Financial Aid Office for more information. Additional course and registration information or phone (608) 258-2301
X-ALT-DESC;FMTTYPE=text/html:<p>\n	Friendly pets\, fresh eggs\, and fertilizer! Learn about the care and feeding of city chickens\, choosing chicks and hens\, coop design\, Dane County resources\, disease management\, winter preparations and taking a field trip to observe real backyard chickens.<br />\n	This is a list of classes scheduled at various Madison Area Technical College locations. For complete\, up-to-date information - including availability - please <a href="https://mymadisoncollege.swcportal.org/psp/pamatc/EMPLOYEE/SA/c/COMMUNITY_ACCESS.CLASS_SEARCH.GBL?FolderPath=PORTAL_ROOT_OBJECT.Z_MATC_SEARCH_COURSES&amp\;IsFolder=false&amp\;IgnoreParamTempl=FolderPath%2cIsFolder" target="_blank">search for classes through myMadisonCollege</a>. This class is not eligible for financial aid. <a href="http://madisoncollege.edu/financial-aid" target="_blank">Contact the Financial Aid Office</a> for more information. <a href="http://madisoncollege.edu/courses">Additional course and registration information</a> or phone (608) 258-2301</p>\n
LOCATION:1701 Wright St. Madison\, WI 53704
UID:e.1220.3048
SEQUENCE:3
DTSTAMP:20260419T215154Z
URL:http://greatermadisonchamber.chambermaster.com/events/details/backyard-chickens-07-10-2013-3048
END:VEVENT

END:VCALENDAR
