BEGIN:VCALENDAR
VERSION:2.0
PRODID:-//ChamberMaster//Event Calendar 2.0//EN
METHOD:PUBLISH
X-PUBLISHED-TTL:P3D
REFRESH-INTERVAL:P3D
CALSCALE:GREGORIAN
BEGIN:VEVENT
DTSTART;VALUE=DATE:20130308
DTEND;VALUE=DATE:20130311
TRANSP:TRANSPARENT
X-MICROSOFT-CDO-ALLDAYEVENT:TRUE
SUMMARY:Canoecopia
DESCRIPTION:Canoecopia has over a hundred exhibitors who are leaders in their areas of expertise. Whether it's sea kayaking in Baja California with the grey whales or an expedition above the Arctic Circle in canoes\, we have folks who have been there and want you to go too. You'll also find schools specializing in teaching outdoor skills in many forms\, from half-day courses to multi-week expeditions. For those of you of the female gender\, many of our guides specialize in women's trips\, something that is growing in popularity by leaps and bounds.  Hours:  Fri. 4pm-9pm\, Sat. 9am-6pm\, Sun. 10am-5pm.   Admission: $15 one-day\, $25 weekend pass. Kids 17 & under are free.  *Prices subject to change.  Visit www.alliantenergycenter.com for more information.
X-ALT-DESC;FMTTYPE=text/html:<span style="color:#696969\;"><span style="font-size: 12px\; "><span style="font-family: arial\; ">Canoecopia has over a hundred exhibitors who are leaders in their areas of expertise. Whether it&#39\;s sea kayaking in Baja California with the grey whales or an expedition above the Arctic Circle in canoes\, we have folks who have been there and want you to go too. You&#39\;ll also find schools specializing in teaching outdoor skills in many forms\, from half-day courses to multi-week expeditions. For those of you of the female gender\, many of our guides specialize in women&#39\;s trips\, something that is growing in popularity by leaps and bounds<i>.<span>&nbsp\; </span></i>Hours:<span>&nbsp\; </span>Fri. 4pm-9pm\, Sat. 9am-6pm\, Sun. 10am-5pm.<span>&nbsp\; </span><i><span>&nbsp\;</span></i>Admission: $15 one-day\, $25 weekend pass. Kids 17 &amp\; under are free.<span>&nbsp\; *Prices subject to change.&nbsp\; Visit </span></span></span></span><span style="font-size:12px\;"><span style="font-family: arial\; "><span style=""><a href="http://www.alliantenergycenter.com"><span style="color:#696969\;">www.alliantenergycenter.com</span></a><span style="color:#696969\;"> for more information.</span></span></span></span>
LOCATION:Exhibition Hall at the Alliant Energy Center
UID:e.1220.2391
SEQUENCE:3
DTSTAMP:20260424T080024Z
URL:http://greatermadisonchamber.chambermaster.com/events/details/canoecopia-03-08-2013-2391
END:VEVENT

END:VCALENDAR
