BEGIN:VCALENDAR
VERSION:2.0
PRODID:-//ChamberMaster//Event Calendar 2.0//EN
METHOD:PUBLISH
X-PUBLISHED-TTL:P3D
REFRESH-INTERVAL:P3D
CALSCALE:GREGORIAN
BEGIN:VEVENT
DTSTART:20130416T233000Z
DTEND:20130417T020000Z
X-MICROSOFT-CDO-ALLDAYEVENT:FALSE
SUMMARY:Catholic Charities Adoption Program's Screening of "somewhere between"
DESCRIPTION:The Catholic Charities Adoption Program is hosting a screening of the documentary "somewhere between." This documentary is about four girls who were all adopted from China.\n\n\n\nCatholic Charities has been building families through adoption since 1946. We are a state licensed child-placing agency accredited through the Council on Accreditation (COA) and serve people of all faiths and beliefs residing in the Diocese of Madison.
X-ALT-DESC;FMTTYPE=text/html:The Catholic Charities Adoption Program is hosting a screening of the documentary &quot\;somewhere between.&quot\; This documentary is about four girls who were all adopted from China.<br />\n<br />\nCatholic Charities has been building families through adoption since 1946. We are a state licensed child-placing agency accredited through the Council on Accreditation (COA) and serve people of all faiths and beliefs residing in the Diocese of Madison.<br />\n
LOCATION:Bishop O'Connor Center 702 S. High Point Road Madison\, WI 53719
UID:e.1220.2775
SEQUENCE:3
DTSTAMP:20260423T215330Z
URL:http://greatermadisonchamber.chambermaster.com/events/details/catholic-charities-adoption-program-s-screening-of-somewhere-between-04-16-2013-2775
END:VEVENT

END:VCALENDAR
