BEGIN:VCALENDAR
VERSION:2.0
PRODID:-//ChamberMaster//Event Calendar 2.0//EN
METHOD:PUBLISH
X-PUBLISHED-TTL:P3D
REFRESH-INTERVAL:P3D
CALSCALE:GREGORIAN
BEGIN:VEVENT
DTSTART:20130514T230000Z
DTEND:20130515T003000Z
X-MICROSOFT-CDO-ALLDAYEVENT:FALSE
SUMMARY:Catholic Charities Birth Parent Support Group
DESCRIPTION:Have you placed your child for adoption? Come to an ongoing support group - free\, safe and confidential on the 2nd Tuesday of every month from 6:00 p.m.   7:30 p.m.\n\n	Meetings are held at Catholic Charities' office on 1810 S. Park Street\, Ste. 200\, Madison\, WI 53713.
X-ALT-DESC;FMTTYPE=text/html:<p>\n	Have you placed your child for adoption? Come to an ongoing support group - free\, safe and confidential on the 2nd Tuesday of every month from 6:00 p.m. &ndash\; 7:30 p.m.</p>\n<p>\n	Meetings are held at Catholic Charities&#39\; office on 1810 S. Park Street\, Ste. 200\, Madison\, WI 53713.</p>\n
LOCATION:Catholic Charities 1810 S. Park Street\, Ste. 200 Madison\, WI 53713
UID:e.1220.2853
SEQUENCE:3
DTSTAMP:20260426T022950Z
URL:http://greatermadisonchamber.chambermaster.com/events/details/catholic-charities-birth-parent-support-group-05-14-2013-2853
END:VEVENT

END:VCALENDAR
