BEGIN:VCALENDAR
VERSION:2.0
PRODID:-//ChamberMaster//Event Calendar 2.0//EN
METHOD:PUBLISH
X-PUBLISHED-TTL:P3D
REFRESH-INTERVAL:P3D
CALSCALE:GREGORIAN
BEGIN:VEVENT
DTSTART:20130629T150000Z
DTEND:20130629T170000Z
X-MICROSOFT-CDO-ALLDAYEVENT:FALSE
SUMMARY:Catholic Charities Bowling for those with Developmental Disabilities
DESCRIPTION:Bowling at Turner Hall Lanes in Monroe for individuals with developmental disabilities ages 16+ and residents of Green County. Shoe rental & 1st game are free\, 2nd game cost $2.\n\n	Catholic Charities' Recreation Programs assist individuals with developmental disabilities in meeting their social\, leisure\, and recreational needs.\n\n	Participants are given opportunities to increase their socialization\, develop friendships\, and stay active in the community. By participating in the program\, individuals learn more about activities and resources and improve their social skills and independence in the community.
X-ALT-DESC;FMTTYPE=text/html:<p>\n	Bowling at Turner Hall Lanes in Monroe for individuals with developmental disabilities ages 16+ and residents of Green County. Shoe rental &amp\; 1st game are free\, 2nd game cost $2.</p>\n<p>\n	Catholic Charities&#39\; Recreation Programs assist individuals with developmental disabilities in meeting their social\, leisure\, and recreational needs.</p>\n<p>\n	Participants are given opportunities to increase their socialization\, develop friendships\, and stay active in the community. By participating in the program\, individuals learn more about activities and resources and improve their social skills and independence in the community.</p>\n
LOCATION:Turner Hall Lanes 1217 17th Avenue Monroe\, WI 53566
UID:e.1220.2988
SEQUENCE:3
DTSTAMP:20260424T232352Z
URL:http://greatermadisonchamber.chambermaster.com/events/details/catholic-charities-bowling-for-those-with-developmental-disabilities-06-29-2013-2988
END:VEVENT

END:VCALENDAR
