BEGIN:VCALENDAR
VERSION:2.0
PRODID:-//ChamberMaster//Event Calendar 2.0//EN
METHOD:PUBLISH
X-PUBLISHED-TTL:P3D
REFRESH-INTERVAL:P3D
CALSCALE:GREGORIAN
BEGIN:VEVENT
DTSTART:20130621T230000Z
DTEND:20130622T010000Z
X-MICROSOFT-CDO-ALLDAYEVENT:FALSE
SUMMARY:Catholic Charities Dance for those with Developmental Disabilities
DESCRIPTION:This dance is open to anyone age 16+ with developmental disabilities who live in Rock County. Participants do not have to be Catholic or be members of the church to attend.\n\n	Catholic Charities' Recreation Programs assist individuals with developmental disabilities in meeting their social\, leisure\, and recreational needs.\n\n	Participants are given opportunities to increase their socialization\, develop friendships\, and stay active in the community. By participating in the program\, individuals learn more about activities and resources and improve their social skills and independence in the community.
X-ALT-DESC;FMTTYPE=text/html:<p>\n	This dance is open to anyone age 16+ with developmental disabilities who live in Rock County. Participants do not have to be Catholic or be members of the church to attend.</p>\n<p>\n	Catholic Charities&#39\; Recreation Programs assist individuals with developmental disabilities in meeting their social\, leisure\, and recreational needs.</p>\n<p>\n	Participants are given opportunities to increase their socialization\, develop friendships\, and stay active in the community. By participating in the program\, individuals learn more about activities and resources and improve their social skills and independence in the community.</p>\n
LOCATION:St. John Vianney Church 1245 Clark Street Janesville\, WI 53545
UID:e.1220.2987
SEQUENCE:3
DTSTAMP:20260425T115448Z
URL:http://greatermadisonchamber.chambermaster.com/events/details/catholic-charities-dance-for-those-with-developmental-disabilities-06-21-2013-2987
END:VEVENT

END:VCALENDAR
