BEGIN:VCALENDAR
VERSION:2.0
PRODID:-//ChamberMaster//Event Calendar 2.0//EN
METHOD:PUBLISH
X-PUBLISHED-TTL:P3D
REFRESH-INTERVAL:P3D
CALSCALE:GREGORIAN
BEGIN:VEVENT
DTSTART:20130904T124500Z
DTEND:20130904T134500Z
X-MICROSOFT-CDO-ALLDAYEVENT:FALSE
SUMMARY:Chamber 101 - September 4th\, 2013
DESCRIPTION:REGISTRATION IS CLOSED\n\n\n\nYou joined. You paid. Now learn how to make the most of your Greater Madison Chamber membership by attending Chamber 101.\n\nChamber 101 is a quick\, 45-minute tour of how you can maximize your investment in membership to promote and grow your business.\n\nYou will learn how you can:\n\n\n	Enhance your online business directory page\n	Network at events & programs to build knowledge and connections\n	Get active in advocacy and business issues\n	Get your news listed on Chamber website and in the e-newsletter\n	And more...\n\n\nOpen to Chamber Members only. Limit 2 attendees per business\, 15 attendees total.
X-ALT-DESC;FMTTYPE=text/html:<p><span style="font-family: arial\;"><span style="font-size: 14px\;"><span style="font-size: 10pt\;"><span style="font-family: georgia\, serif\;"><span style="color: rgb(51\, 51\, 51)\;">REGISTRATION IS CLOSED<br />\n<br />\nYou joined. You paid. Now learn how to make the most of your Greater Madison Chamber membership by attending Chamber 101.</span></span></span></span></span></p>\n\n<p><span style="font-family: arial\;"><span style="font-size: 14px\;"><strong><span style="font-size: 10pt\;"><span style="font-family: georgia\, serif\;"><span style="color: rgb(51\, 51\, 51)\;">Chamber 101 </span></span></span></strong><span style="font-size: 10pt\;"><span style="font-family: georgia\, serif\;"><span style="color: rgb(51\, 51\, 51)\;">is a quick\, 45-minute tour of how you can maximize your investment in membership to promote and grow your business.<br />\nYou will learn how you can:</span></span></span></span></span></p>\n\n<ul>\n	<li><span style="font-family: arial\;"><span style="font-size: 14px\;"><span style="font-size: 10pt\;"><span style="font-family: georgia\, serif\;"><span style="color: rgb(51\, 51\, 51)\;">Enhance your online business directory page</span></span></span></span></span></li>\n	<li><span style="font-family: arial\;"><span style="font-size: 14px\;"><span style="font-size: 10pt\;"><span style="font-family: georgia\, serif\;"><span style="color: rgb(51\, 51\, 51)\;">Network at events &amp\; programs to build knowledge and connections</span></span></span></span></span></li>\n	<li><span style="font-family: arial\;"><span style="font-size: 14px\;"><span style="font-size: 10pt\;"><span style="font-family: georgia\, serif\;"><span style="color: rgb(51\, 51\, 51)\;">Get active in advocacy and business issues</span></span></span></span></span></li>\n	<li><span style="font-family: arial\;"><span style="font-size: 14px\;"><span style="font-size: 10pt\;"><span style="font-family: georgia\, serif\;"><span style="color: rgb(51\, 51\, 51)\;">Get your news listed on Chamber website and in the e-newsletter</span></span></span></span></span></li>\n	<li><span style="font-family: arial\;"><span style="font-size: 14px\;"><span style="font-size: 10pt\;"><span style="font-family: georgia\, serif\;"><span style="color: rgb(51\, 51\, 51)\;">And more...</span></span></span></span></span></li>\n</ul>\n\n<p><span style="font-family: arial\;"><span style="font-size: 14px\;"><span style="font-size: 10pt\;"><span style="font-family: georgia\, serif\;"><span style="color: rgb(51\, 51\, 51)\;">Open to Chamber Members only. Limit 2 attendees per business\, 15 attendees total.</span></span></span></span></span><br />\n&nbsp\;</p>\n
LOCATION:Chamber Board Room\, 615 E. Washington Ave.\, Madison PARKING: From East Washington Avenue\, turn LEFT onto Blount Street. Turn RIGHT onto Main Street. Turn RIGHT into the driveway at the sign that reads "Madison Chamber of Commerce." Park in any space that isn't reserved. From John Nolen Drive turn onto Blair Street. Then take a RIGHT onto Main Street. It will be the SECOND driveway on the left. Look for the "Madison Chamber of Commerce" sign. Park in any space that isn't reserved.
UID:e.1220.3221
SEQUENCE:3
DTSTAMP:20260420T040549Z
URL:http://greatermadisonchamber.chambermaster.com/events/details/chamber-101-september-4th-2013-09-04-2013-3221
END:VEVENT

END:VCALENDAR
