BEGIN:VCALENDAR
VERSION:2.0
PRODID:-//ChamberMaster//Event Calendar 2.0//EN
METHOD:PUBLISH
X-PUBLISHED-TTL:P3D
REFRESH-INTERVAL:P3D
CALSCALE:GREGORIAN
BEGIN:VEVENT
DTSTART:20130718T230000Z
DTEND:20130823T020000Z
X-MICROSOFT-CDO-ALLDAYEVENT:FALSE
SUMMARY:Character Drawing and Design
DESCRIPTION:Learn and practice drawing techniques to create your own imaginative characters. This course will show you both traditional and digital methods used by character concept artists from comic books\, video games\, animation and film.\n\n\n	This is a list of classes scheduled at various Madison Area Technical College locations. For complete\, up-to-date information - including availability - please search for classes through myMadisonCollege. This class is not eligible for financial aid. Contact the Financial Aid Office for more information. Additional course and registration information or phone (608) 258-2301.
X-ALT-DESC;FMTTYPE=text/html:<br />\nLearn and practice drawing techniques to create your own imaginative characters. This course will show you both traditional and digital methods used by character concept artists from comic books\, video games\, animation and film.<br />\n<p>\n	This is a list of classes scheduled at various Madison Area Technical College locations. For complete\, up-to-date information - including availability - please <a href="https://mymadisoncollege.swcportal.org/psp/pamatc/EMPLOYEE/SA/c/COMMUNITY_ACCESS.CLASS_SEARCH.GBL?FolderPath=PORTAL_ROOT_OBJECT.Z_MATC_SEARCH_COURSES&amp\;IsFolder=false&amp\;IgnoreParamTempl=FolderPath%2cIsFolder" target="_blank">search for classes through myMadisonCollege</a>. This class is not eligible for financial aid. <a href="http://madisoncollege.edu/financial-aid" target="_blank">Contact the Financial Aid Office</a> for more information. <a href="http://madisoncollege.edu/courses">Additional course and registration information</a> or phone (608) 258-2301.</p>\n
LOCATION:211 N. Carroll St. Madison\, WI 53703
UID:e.1220.3046
SEQUENCE:3
DTSTAMP:20260420T040548Z
URL:http://greatermadisonchamber.chambermaster.com/events/details/character-drawing-and-design-07-18-2013-3046
END:VEVENT

END:VCALENDAR
