BEGIN:VCALENDAR
VERSION:2.0
PRODID:-//ChamberMaster//Event Calendar 2.0//EN
METHOD:PUBLISH
X-PUBLISHED-TTL:P3D
REFRESH-INTERVAL:P3D
CALSCALE:GREGORIAN
BEGIN:VEVENT
DTSTART:20130123T223000Z
DTEND:20130123T233000Z
X-MICROSOFT-CDO-ALLDAYEVENT:FALSE
SUMMARY:China Study Tour 2013 Information Session
DESCRIPTION:Stop by the Edgewood College Deming Way Campus on January 23 or January 29\, 4:30 - 5:30 p.m. for your chance to learn about the 2013 China Study Tour! This trip\, tentatively set for May 24 - June 2\, is an incredible experience for working professionals\, and everyone generally interested in Chinese business culture. The 10-day tour of Beijing\, Shanghai and Suzhou provides critical insights to and valuable\, first-hand experiences with China's business climate\, culture\, and history. In addition to tours of Chinese and US businesses\, participants will meet business executives to discuss challenges and opportunities in this exciting emerging market\, attend lectures on the Chinese economy and culture\, and tour historic and cultural sites. \n\n	For more information\, please contact Kathryne Auerback\, kauerback@edgewood.edu
X-ALT-DESC;FMTTYPE=text/html:<p>\n	<font color="#000000"><font size="3"><font face="Times New Roman">Stop by the Edgewood College Deming Way Campus on January 23 or January 29\, 4:30 - 5:30 p.m. for your chance to learn about the 2013 China Study Tour! This trip\, tentatively set for May 24 - June 2\, is an incredible experience for working professionals\, and everyone generally interested in Chinese business culture. The 10-day tour of Beijing\, Shanghai and Suzhou provides critical insights to and valuable\, first-hand experiences with China&rsquo\;s business climate\, culture\, and history. In addition to tours of Chinese and US businesses\, participants will meet business executives to discuss challenges and opportunities in this exciting emerging market\, attend lectures on the Chinese economy and culture\, and tour historic and cultural sites. <o:p></o:p></font></font></font></p>\n<p>\n	<font color="#000000" face="Times New Roman" size="3">For more information\, please contact Kathryne Auerback\, </font><a href="mailto:kauerback@edgewood.edu"><font color="#0000ff" face="Times New Roman" size="3">kauerback@edgewood.edu</font></a><o:p></o:p></p>\n
LOCATION:Edgewood College Deming Way Campus 1255 Deming Way Madison\, WI 53717
UID:e.1220.2627
SEQUENCE:3
DTSTAMP:20260426T022950Z
URL:http://greatermadisonchamber.chambermaster.com/events/details/china-study-tour-2013-information-session-01-23-2013-2627
END:VEVENT

END:VCALENDAR
