BEGIN:VCALENDAR
VERSION:2.0
PRODID:-//ChamberMaster//Event Calendar 2.0//EN
METHOD:PUBLISH
X-PUBLISHED-TTL:P3D
REFRESH-INTERVAL:P3D
CALSCALE:GREGORIAN
BEGIN:VEVENT
DTSTART:20130814T200000Z
DTEND:20130814T230000Z
X-MICROSOFT-CDO-ALLDAYEVENT:FALSE
SUMMARY:Client vs. Contractor Mock Trial
DESCRIPTION:Do you write contracts?  Attend this Mock Trial presented by the Madison Area Builders Association and Axley Brynelson and learn how to keep yourself OUT of court and defend yourself against frivolous claims.\n\n\n\nEnjoy a cocktail reception following the trial!\n\n\n\nhttps://www.maba.org/index.php?module=maba.members&cmd=viewcalendarevent&event=506 \n\n\n\nContact Andrew Disch at 608-288-1133 x14 or disch@maba.org with any quesitons or to register.
X-ALT-DESC;FMTTYPE=text/html:Do you write contracts? &nbsp\;Attend this Mock Trial presented by the Madison Area Builders Association and Axley Brynelson and learn how to keep yourself OUT of court and defend yourself against frivolous claims.<br />\n<br />\nEnjoy a cocktail reception following the trial!<br />\n<br />\n<a href="https://www.maba.org/index.php?module=maba.members&amp\;cmd=viewcalendarevent&amp\;event=506">https://www.maba.org/index.php?module=maba.members&amp\;cmd=viewcalendarevent&amp\;event=506&nbsp\;<br />\n<br />\nC</a>ontact Andrew Disch at 608-288-1133 x14 or disch@maba.org with any quesitons or to register.<br />\n&nbsp\;
LOCATION:Madison Club
UID:e.1220.3206
SEQUENCE:3
DTSTAMP:20260420T024951Z
URL:http://greatermadisonchamber.chambermaster.com/events/details/client-vs-contractor-mock-trial-08-14-2013-3206
END:VEVENT

END:VCALENDAR
