BEGIN:VCALENDAR
VERSION:2.0
PRODID:-//ChamberMaster//Event Calendar 2.0//EN
METHOD:PUBLISH
X-PUBLISHED-TTL:P3D
REFRESH-INTERVAL:P3D
CALSCALE:GREGORIAN
BEGIN:VEVENT
DTSTART:20130725T230000Z
DTEND:20130726T020000Z
X-MICROSOFT-CDO-ALLDAYEVENT:FALSE
SUMMARY:Dealing with Difficult People
DESCRIPTION:Learn techniques and strategies to help you deal gracefully with difficult people. Gain a better understanding of why others act as they do and develop improved responses to help de-escalate awkward situations.
X-ALT-DESC;FMTTYPE=text/html:Learn techniques and strategies to help you deal gracefully with difficult people. Gain a better understanding of why others act as they do and develop improved responses to help de-escalate awkward situations.<br />\n
LOCATION:1701 Wright St. Madison\, WI 53704
UID:e.1220.2997
SEQUENCE:3
DTSTAMP:20260420T214536Z
URL:http://greatermadisonchamber.chambermaster.com/events/details/dealing-with-difficult-people-07-25-2013-2997
END:VEVENT

END:VCALENDAR
