BEGIN:VCALENDAR
VERSION:2.0
PRODID:-//ChamberMaster//Event Calendar 2.0//EN
METHOD:PUBLISH
X-PUBLISHED-TTL:P3D
REFRESH-INTERVAL:P3D
CALSCALE:GREGORIAN
BEGIN:VEVENT
DTSTART:20130312T132500Z
DTEND:20130312T170000Z
X-MICROSOFT-CDO-ALLDAYEVENT:FALSE
SUMMARY:Dealing with Personalities
DESCRIPTION:Difficult personalities and disruptive behaviors can destroy a work environment. Yet\, these difficult behaviors may trigger protections under the American Disabilities Act if caused by a legitimate psychiatric disability.  Threats of workplace violence require prompt action\; yet action without enough foundation has generated five million dollar verdicts against employers.  This program addresses the legal standards and practical concepts involved and pointers for dealing with these issues.  Learn how to assess and manage greater than usual communication problems\, discern disruptive behavior\, threats of violence\, and understand the laws or rules that need to guide your management actions.
X-ALT-DESC;FMTTYPE=text/html:<p>\n	Difficult personalities and disruptive behaviors can destroy a work environment. Yet\, these difficult behaviors may trigger protections under the American Disabilities Act if caused by a legitimate psychiatric disability.&nbsp\; Threats of workplace violence require prompt action\; yet action without enough foundation has generated five million dollar verdicts against employers.&nbsp\; This program addresses the legal standards and practical concepts involved and pointers for dealing with these issues.&nbsp\; Learn how to assess and manage greater than usual communication problems\, discern disruptive behavior\, threats of violence\, and understand the laws or rules that need to guide your management actions.&nbsp\;</p>\n<p>\n	<br />\n	&nbsp\;</p>\n
LOCATION:UW Madison Grainger Hall 975 Unviersity Ave
UID:e.1220.2691
SEQUENCE:3
DTSTAMP:20260425T130927Z
URL:http://greatermadisonchamber.chambermaster.com/events/details/dealing-with-personalities-03-12-2013-2691
END:VEVENT

END:VCALENDAR
