BEGIN:VCALENDAR
VERSION:2.0
PRODID:-//ChamberMaster//Event Calendar 2.0//EN
METHOD:PUBLISH
X-PUBLISHED-TTL:P3D
REFRESH-INTERVAL:P3D
CALSCALE:GREGORIAN
BEGIN:VEVENT
DTSTART:20130724T170000Z
DTEND:20130731T170000Z
X-MICROSOFT-CDO-ALLDAYEVENT:FALSE
SUMMARY:Digital Camera Workshop
DESCRIPTION:The "Digital Camera Workshop" is intended for those who understand the basic point-and-shoot operation of their digital cameras\, but who are seeking assistance in taking better pictures and making better use of more of their digital camera's features
X-ALT-DESC;FMTTYPE=text/html:<p>\n	The &quot\;Digital Camera Workshop&quot\; is intended for those who understand the basic point-and-shoot operation of their digital cameras\, but who are seeking assistance in taking better pictures and making better use of more of their digital camera&#39\;s features</p>\n
LOCATION:1701 Wright St. Madison\, WI 53704
UID:e.1220.3118
SEQUENCE:3
DTSTAMP:20260420T141716Z
URL:http://greatermadisonchamber.chambermaster.com/events/details/digital-camera-workshop-07-24-2013-3118
END:VEVENT

END:VCALENDAR
