BEGIN:VCALENDAR
VERSION:2.0
PRODID:-//ChamberMaster//Event Calendar 2.0//EN
METHOD:PUBLISH
X-PUBLISHED-TTL:P3D
REFRESH-INTERVAL:P3D
CALSCALE:GREGORIAN
BEGIN:VEVENT
DTSTART;VALUE=DATE:20130405
DTEND;VALUE=DATE:20130511
TRANSP:TRANSPARENT
X-MICROSOFT-CDO-ALLDAYEVENT:TRUE
SUMMARY:Digital Painting with Adobe Software
DESCRIPTION:This beginner's course in digital art focuses on theories\, techniques and tricks for producing digital paintings and conceptual art with Adobe Photoshop and Illustrator. Previous familiarity with Adobe Photoshop/Illustrator would be helpful but not necessary.
X-ALT-DESC;FMTTYPE=text/html:This beginner&#39\;s course in digital art focuses on theories\, techniques and tricks for producing digital paintings and conceptual art with Adobe Photoshop and Illustrator. Previous familiarity with Adobe Photoshop/Illustrator would be helpful but not necessary.
LOCATION:211 North Carrol Street Madison\, WI 53703
UID:e.1220.2801
SEQUENCE:3
DTSTAMP:20260423T004356Z
URL:http://greatermadisonchamber.chambermaster.com/events/details/digital-painting-with-adobe-software-04-05-2013-2801
END:VEVENT

END:VCALENDAR
