BEGIN:VCALENDAR
VERSION:2.0
PRODID:-//ChamberMaster//Event Calendar 2.0//EN
METHOD:PUBLISH
X-PUBLISHED-TTL:P3D
REFRESH-INTERVAL:P3D
CALSCALE:GREGORIAN
BEGIN:VEVENT
DTSTART:20130710T233000Z
DTEND:20130801T013000Z
X-MICROSOFT-CDO-ALLDAYEVENT:FALSE
SUMMARY:Digital Photography Advanced
DESCRIPTION:"Digital Photography Advanced" will cover topics such as: setting custom white balance\, using an off camera flash creatively\, overriding automatic camera controls\, shooting in the RAW mode\, choosing lenses for various shooting situations\, and other topics.\n\n	 \n\n	This is a list of classes scheduled at various Madison Area Technical College locations. For complete\, up-to-date information - including availability - please search for classes through myMadisonCollege. This class is not eligible for financial aid. Contact the Financial Aid Office for more information. Additional course and registration information or phone (608) 258-2301.
X-ALT-DESC;FMTTYPE=text/html:<p>\n	&quot\;Digital Photography Advanced&quot\; will cover topics such as: setting custom white balance\, using an off camera flash creatively\, overriding automatic camera controls\, shooting in the RAW mode\, choosing lenses for various shooting situations\, and other topics.<br />\n	&nbsp\;</p>\n<p>\n	This is a list of classes scheduled at various Madison Area Technical College locations. For complete\, up-to-date information - including availability - please <a href="https://mymadisoncollege.swcportal.org/psp/pamatc/EMPLOYEE/SA/c/COMMUNITY_ACCESS.CLASS_SEARCH.GBL?FolderPath=PORTAL_ROOT_OBJECT.Z_MATC_SEARCH_COURSES&amp\;IsFolder=false&amp\;IgnoreParamTempl=FolderPath%2cIsFolder" target="_blank">search for classes through myMadisonCollege</a>. This class is not eligible for financial aid. <a href="http://madisoncollege.edu/financial-aid" target="_blank">Contact the Financial Aid Office</a> for more information. <a href="http://madisoncollege.edu/courses">Additional course and registration information</a> or phone (608) 258-2301.</p>\n
LOCATION:302 S. Gammon Road Madison\, WI 53717
UID:e.1220.3043
SEQUENCE:3
DTSTAMP:20260422T191923Z
URL:http://greatermadisonchamber.chambermaster.com/events/details/digital-photography-advanced-07-10-2013-3043
END:VEVENT

END:VCALENDAR
