BEGIN:VCALENDAR
VERSION:2.0
PRODID:-//ChamberMaster//Event Calendar 2.0//EN
METHOD:PUBLISH
X-PUBLISHED-TTL:P3D
REFRESH-INTERVAL:P3D
CALSCALE:GREGORIAN
BEGIN:VEVENT
DTSTART:20160228T000000Z
DTEND:20160228T030000Z
X-MICROSOFT-CDO-ALLDAYEVENT:FALSE
SUMMARY:Disco Skate
DESCRIPTION:Get funky on The Ice Rink with a glowing disco skate and sounds of the 70s! Grab your leisure suits\, your big mustaches and your disco moves on Saturday\, February 27 from 6-9pm. Our funkadellic DJ will groove you through The Hustle\, Dancing Queen\, Donna Summer and anything BeeJees from the era\, plus the light show will knock your platformed skates off!
X-ALT-DESC;FMTTYPE=text/html:Get funky on The Ice Rink with a glowing disco skate and sounds of the 70s! Grab your leisure suits\, your big mustaches and your disco moves on Saturday\, February 27 from 6-9pm. Our funkadellic DJ will groove you through The Hustle\, Dancing Queen\, Donna Summer and anything BeeJees from the era\, plus the light show will knock your platformed skates off!
LOCATION:The Edgewater Ice Rink
UID:e.1220.11179
SEQUENCE:3
DTSTAMP:20260420T160937Z
URL:http://greatermadisonchamber.chambermaster.com/events/details/disco-skate-02-27-2016-11179
END:VEVENT

END:VCALENDAR
