BEGIN:VCALENDAR
VERSION:2.0
PRODID:-//ChamberMaster//Event Calendar 2.0//EN
METHOD:PUBLISH
X-PUBLISHED-TTL:P3D
REFRESH-INTERVAL:P3D
CALSCALE:GREGORIAN
BEGIN:VEVENT
DTSTART:20130716T230000Z
DTEND:20130719T020000Z
X-MICROSOFT-CDO-ALLDAYEVENT:FALSE
SUMMARY:Do Your Own Will
DESCRIPTION:"Do Your Own Will" covers basic estate planning\, taxes\, marital property\, creating a children's trust\, funeral planning\, and how to buy life insurance while learning how to write wills using the Wisconsin Basic Will. No legal advice or counseling is given.\n\n	 \n\n	This is a list of classes scheduled at various Madison Area Technical College locations. For complete\, up-to-date information - including availability - please search for classes through myMadisonCollege. This class is not eligible for financial aid. Contact the Financial Aid Office for more information. Additional course and registration information or phone (608) 258-2301.
X-ALT-DESC;FMTTYPE=text/html:<br />\n<p>\n	&quot\;Do Your Own Will&quot\; covers basic estate planning\, taxes\, marital property\, creating a children&#39\;s trust\, funeral planning\, and how to buy life insurance while learning how to write wills using the Wisconsin Basic Will. No legal advice or counseling is given.<br />\n	&nbsp\;</p>\n<p>\n	This is a list of classes scheduled at various Madison Area Technical College locations. For complete\, up-to-date information - including availability - please <a href="https://mymadisoncollege.swcportal.org/psp/pamatc/EMPLOYEE/SA/c/COMMUNITY_ACCESS.CLASS_SEARCH.GBL?FolderPath=PORTAL_ROOT_OBJECT.Z_MATC_SEARCH_COURSES&amp\;IsFolder=false&amp\;IgnoreParamTempl=FolderPath%2cIsFolder" target="_blank">search for classes through myMadisonCollege</a>. This class is not eligible for financial aid. <a href="http://madisoncollege.edu/financial-aid" target="_blank">Contact the Financial Aid Office</a> for more information. <a href="http://madisoncollege.edu/courses">Additional course and registration information</a> or phone (608) 258-2301.</p>\n
LOCATION:1701 Wright St. Madison\, WI 53704
UID:e.1220.3045
SEQUENCE:3
DTSTAMP:20260421T114748Z
URL:http://greatermadisonchamber.chambermaster.com/events/details/do-your-own-will-07-16-2013-3045
END:VEVENT

END:VCALENDAR
