BEGIN:VCALENDAR
VERSION:2.0
PRODID:-//ChamberMaster//Event Calendar 2.0//EN
METHOD:PUBLISH
X-PUBLISHED-TTL:P3D
REFRESH-INTERVAL:P3D
CALSCALE:GREGORIAN
BEGIN:VEVENT
DTSTART:20131014T223000Z
DTEND:20131022T013000Z
X-MICROSOFT-CDO-ALLDAYEVENT:FALSE
SUMMARY:Do Your Own Will
DESCRIPTION:This course covers basic estate planning\, taxes\, marital property\, creating a\n\nchildren's trust\, funeral planning\, and how to buy life insurance. Participants\n\nreceive instruction on how to write their own wills using the Wisconsin Basic Will.\n\nNo legal advice or counseling is given.
X-ALT-DESC;FMTTYPE=text/html:This course covers basic estate planning\, taxes\, marital property\, creating a<br />\nchildren&rsquo\;s trust\, funeral planning\, and how to buy life insurance. Participants<br />\nreceive instruction on how to write their own wills using the Wisconsin Basic Will.<br />\nNo legal advice or counseling is given.
LOCATION:Waunakee Senior Center\, 333 S. Madison St\, Waunakee\, WI
UID:e.1220.3355
SEQUENCE:3
DTSTAMP:20260421T083509Z
URL:http://greatermadisonchamber.chambermaster.com/events/details/do-your-own-will-10-14-2013-3355
END:VEVENT

END:VCALENDAR
