BEGIN:VCALENDAR
VERSION:2.0
PRODID:-//ChamberMaster//Event Calendar 2.0//EN
METHOD:PUBLISH
X-PUBLISHED-TTL:P3D
REFRESH-INTERVAL:P3D
CALSCALE:GREGORIAN
BEGIN:VEVENT
DTSTART:20140124T003000Z
DTEND:20140124T013000Z
X-MICROSOFT-CDO-ALLDAYEVENT:FALSE
SUMMARY:Dream Big: Setting Goals with Intention
DESCRIPTION:2014 is YOUR year to pursue and achieve your dreams. Join us for an inspirational hour with Darcy Luoma\, Madison?s favorite life coach\, to learn a new way to approach goal setting. She?ll teach you how to shift your focus from distracting details to discovering your underlying intention. This fresh outlook releases you from New Year?s resolution burn-out\, and opens a new paradigm of honoring your personal values as the pathway to pursuing your dreams.
X-ALT-DESC;FMTTYPE=text/html:2014 is YOUR year to pursue and achieve your dreams. Join us for an inspirational hour with Darcy Luoma\, Madison?s favorite life coach\, to learn a new way to approach goal setting. She?ll teach you how to shift your focus from distracting details to discovering your underlying intention. This fresh outlook releases you from New Year?s resolution burn-out\, and opens a new paradigm of honoring your personal values as the pathway to pursuing your dreams.
LOCATION:DreamBank 1 N Pinckney St. Madison
UID:e.1220.3512
SEQUENCE:3
DTSTAMP:20260421T111350Z
URL:http://greatermadisonchamber.chambermaster.com/events/details/dream-big-setting-goals-with-intention-01-23-2014-3512
END:VEVENT

END:VCALENDAR
