BEGIN:VCALENDAR
VERSION:2.0
PRODID:-//ChamberMaster//Event Calendar 2.0//EN
METHOD:PUBLISH
X-PUBLISHED-TTL:P3D
REFRESH-INTERVAL:P3D
CALSCALE:GREGORIAN
BEGIN:VEVENT
DTSTART:20131106T173000Z
DTEND:20131106T181500Z
X-MICROSOFT-CDO-ALLDAYEVENT:FALSE
SUMMARY:Drive Business Performance Webinar
DESCRIPTION:Learn how small and mid-sized businesses are using Intacct\, a modern cloud-based financial management and accounting system\, to save time\, streamline accounting processes\, and provide analytical insight into their business. You will get the answers to ?Why Intacct?? and ?What are the benefits for my business?? Discover How To Easily analyze\, streamline\, and automate - resulting in time savings\; Gain real-time insights into financial performance: Prevent fraud with separation of duties and financial controls\; and Eliminate manual reporting with easy-to-use automated report writer.
X-ALT-DESC;FMTTYPE=text/html:Learn how small and mid-sized businesses are using Intacct\, a modern cloud-based financial management and accounting system\, to save time\, streamline accounting processes\, and provide analytical insight into their business. You will get the answers to ?Why Intacct?? and ?What are the benefits for my business?? Discover How To Easily analyze\, streamline\, and automate - resulting in time savings\; Gain real-time insights into financial performance: Prevent fraud with separation of duties and financial controls\; and Eliminate manual reporting with easy-to-use automated report writer.
LOCATION:Webinar offered online.
UID:e.1220.3401
SEQUENCE:3
DTSTAMP:20260421T212525Z
URL:http://greatermadisonchamber.chambermaster.com/events/details/drive-business-performance-webinar-11-06-2013-3401
END:VEVENT

END:VCALENDAR
