BEGIN:VCALENDAR
VERSION:2.0
PRODID:-//ChamberMaster//Event Calendar 2.0//EN
METHOD:PUBLISH
X-PUBLISHED-TTL:P3D
REFRESH-INTERVAL:P3D
CALSCALE:GREGORIAN
BEGIN:VEVENT
DTSTART:20130430T230000Z
DTEND:20130508T010000Z
X-MICROSOFT-CDO-ALLDAYEVENT:FALSE
SUMMARY:Edible Native Plants
DESCRIPTION:"Learn how to identify and prepare a sampling of edible native plants. We will focus on basic ecology\, plant function and ethical harvest/care as well as what's in season and what can be grown in your garden or yard."
X-ALT-DESC;FMTTYPE=text/html:<p>\n	&quot\;Learn how to identify and prepare a sampling of edible native plants. We will focus on basic ecology\, plant function and ethical harvest/care as well as what&#39\;s in season and what can be grown in your garden or yard.&quot\;</p>\n
LOCATION:302 S. Gammon Rd.\, Madison\, WI 53713
UID:e.1220.2754
SEQUENCE:3
DTSTAMP:20260422T201010Z
URL:http://greatermadisonchamber.chambermaster.com/events/details/edible-native-plants-04-30-2013-2754
END:VEVENT

END:VCALENDAR
