BEGIN:VCALENDAR
VERSION:2.0
PRODID:-//ChamberMaster//Event Calendar 2.0//EN
METHOD:PUBLISH
X-PUBLISHED-TTL:P3D
REFRESH-INTERVAL:P3D
CALSCALE:GREGORIAN
BEGIN:VEVENT
DTSTART:20131211T133000Z
DTEND:20131211T150000Z
X-MICROSOFT-CDO-ALLDAYEVENT:FALSE
SUMMARY:Eggs & Issues - Crowdfunding Rules and Regulations
DESCRIPTION:Registration is now closed\, onsite registration is available. \n\n\n\nWisconsin is one of the first states in the nation to permit a company to raise capital by selling small ownership shares to many investors.  In addition\, the Securities and Exchange Commission is currently gathering feedback on federal crowdfunding guidelines.  These new rules will create innovative financial opportunities for start-up companies\, especially those focused on non-technology based ventures.  Entrepreneurs\, attorneys\, financial advisors and potential investors are encouraged to attend this panel discussion to learn how you might benefit from these legislative changes.\n\n\n\nSpeakers: \n\nPatricia Struck - Administrator of the Securities Division of Wisconsin's Department of Financial Institutions\n\n\n\nDavid Dupee   Founder and CEO of CraftFund LLC\n\nJoseph Hildebrandt   Managing Director\, DaneVest Tech Fund I\, LP and Phenomenelle Angels Fund I\, LP\n\n\n\nDate & Time: \n\nDecember 11\, 2013\n\nTime: 7:30 a.m - 9:00 a.m. \n\n\n\nLocation: \n\nMadison Concourse Hotel and Governor's Club - 1 W Dayton St  Madison\, WI 53703\nAbout Eggs & Issues program: \n\nEggs & Issues is a quarterly public policy educational series that provides information to our members on topical business issues in government. Hear straight talk about public policy issues   directly from the experts and government officials whose actions have a huge effect on our businesses\, our region\, and our community. This program gives you an exclusive opportunity to sit down to breakfast with leading community figures with ample time for Q&A.\n\n\n\nContact: \n\nProgram and Events Manager\n\nKennedy Cullen\n\n608-443-1954\n\nkcullen@greatermadisonchamber.com
X-ALT-DESC;FMTTYPE=text/html:<p><span style="font-family: arial\;"><span style="font-size: 14px\;"><span style="background: white\;"><strong>Registration is now closed\, onsite registration is available. </strong><br />\n<br />\nWisconsin is one of the first states in the nation to permit a company to raise capital by selling small ownership shares to many investors.&nbsp\; In addition\, the Securities and Exchange Commission is currently gathering feedback on federal crowdfunding guidelines.&nbsp\; These new rules will create innovative financial opportunities for start-up companies\, especially those focused on non-technology based ventures. &nbsp\;Entrepreneurs\, attorneys\, financial advisors and potential investors are encouraged to attend this panel discussion to learn how you might benefit from these legislative changes.<br />\n<br />\n<u><strong><span style="background: white\;">Speakers: </span></strong></u><br />\n<u>Patricia Struck</u> - Administrator of the Securities Division of Wisconsin&rsquo\;s Department of Financial Institutions<br />\n<br />\n<u>David Dupee </u>&ndash\; Founder and CEO of CraftFund LLC</span></span></span></p>\n\n<p><span style="font-family: arial\;"><span style="font-size: 14px\;"><span style="mso-fareast-language: EN-US\; mso-fareast-font-family: Calibri\; mso-ansi-language: EN-US\; mso-bidi-language: AR-SA\; mso-fareast-theme-font: minor-latin\; mso-bidi-font-family: &quot\;Times New Roman&quot\;\;"><u>Joseph Hildebrandt </u>&ndash\; Managing Director\, DaneVest Tech Fund I\, LP and Phenomenelle Angels Fund I\, LP</span><br />\n<br />\n<span style="font-size: 14px\;"><span style="font-family: arial\;"><u><strong>Date &amp\; Time: </strong></u><br />\nDecember 11\, 2013<br />\nTime: 7:30 a.m - 9:00 a.m. </span></span><br />\n<br />\n<u><strong>Location:&nbsp\;</strong></u><br />\nMadison Concourse Hotel and Governor&rsquo\;s Club - </span></span><span style="font-family: arial\;"><span style="font-size: 14px\;">1 W Dayton St&nbsp\; Madison\, WI 53703</span></span></p>\n<span style="font-family: arial\;"><span style="font-size: 14px\;"><u><strong>About Eggs &amp\; Issues program: </strong></u><br />\nEggs &amp\; Issues is a quarterly public policy educational series that provides information to our members on topical business issues in government. Hear straight talk about public policy issues &ndash\; directly from the experts and government officials whose actions have a huge effect on our businesses\, our region\, and our community. This program gives you an exclusive opportunity to sit down to breakfast with leading community figures with ample time for Q&amp\;A.<br />\n<br />\n<u><strong>Contact: </strong></u><br />\nProgram and Events Manager<br />\nKennedy Cullen<br />\n608-443-1954<br />\n<a href="mailto:jwelnick@greatermadisonchamber.com">kcullen@greatermadisonchamber.com</a></span></span>
LOCATION:Madison Concourse Hotel and Governor's Club 1 W Dayton St Madison\, WI 53703
UID:e.1220.3469
SEQUENCE:3
DTSTAMP:20260419T193359Z
URL:http://greatermadisonchamber.chambermaster.com/events/details/eggs-issues-crowdfunding-rules-and-regulations-12-11-2013-3469
END:VEVENT

END:VCALENDAR
