BEGIN:VCALENDAR
VERSION:2.0
PRODID:-//ChamberMaster//Event Calendar 2.0//EN
METHOD:PUBLISH
X-PUBLISHED-TTL:P3D
REFRESH-INTERVAL:P3D
CALSCALE:GREGORIAN
BEGIN:VEVENT
DTSTART:20130502T230000Z
DTEND:20130510T020000Z
X-MICROSOFT-CDO-ALLDAYEVENT:FALSE
SUMMARY:Event Planning
DESCRIPTION:This course will explore the logistics needed to plan large events\, corporate meetings\, and conventions. Topics include choosing dates\, locales\, registration methods\, marketing techniques\, catering and setup\, and suggested timelines for successful event planning. Learn how social media is changing traditional event planning with new tools and new modes of publicity.
X-ALT-DESC;FMTTYPE=text/html:<p>\n	This course will explore the logistics needed to plan large events\, corporate meetings\, and conventions. Topics include choosing dates\, locales\, registration methods\, marketing techniques\, catering and setup\, and suggested timelines for successful event planning. Learn how social media is changing traditional event planning with new tools and new modes of publicity.</p>\n
LOCATION:302 S. Gammon Road Madison\, WI 53703
UID:e.1220.2684
SEQUENCE:3
DTSTAMP:20260421T235624Z
URL:http://greatermadisonchamber.chambermaster.com/events/details/event-planning-05-02-2013-2684
END:VEVENT

END:VCALENDAR
