BEGIN:VCALENDAR
VERSION:2.0
PRODID:-//ChamberMaster//Event Calendar 2.0//EN
METHOD:PUBLISH
X-PUBLISHED-TTL:P3D
REFRESH-INTERVAL:P3D
CALSCALE:GREGORIAN
BEGIN:VEVENT
DTSTART:20131005T130000Z
DTEND:20131005T170000Z
X-MICROSOFT-CDO-ALLDAYEVENT:FALSE
SUMMARY:Fall Sprawl for Camp Wawbeek
DESCRIPTION:Join us for Fall Sprawl 2013 as we walk\, run and roll together to raise funds for Easter Seals Camp Wawbeek on Saturday\, October 5. The race will take place at beautiful Camp Wawbeek\, located just north of Wisconsin Dells. Participant registration and check-in will run from 8:00 - 9:00 AM. Run start is at 9:15 AM\, followed by Walk start at 9:30 AM.\n\n\n\nEntry fee is just $15 ($20 day of event) and includes a Fall Sprawl t-shirt\, refreshments and best of all\, the opportunity to meet Easter Seals campers - the people who benefit the most from Fall Sprawl proceeds. Show your support to help children and adults with disabilities enjoy a week of fun\, friendship and memories at Easter Seals Wisconsin's Camp Wawbeek or Respite Camp.
X-ALT-DESC;FMTTYPE=text/html:Join us for&nbsp\;Fall Sprawl 2013 as we walk\, run and roll together to raise funds for Easter Seals Camp Wawbeek on Saturday\, October 5. The race will take place at beautiful Camp Wawbeek\, located just north of Wisconsin Dells. Participant registration and check-in will run from 8:00 - 9:00 AM. Run start is at 9:15 AM\, followed by Walk start at 9:30 AM.<br />\n<br />\nEntry fee is just $15 ($20 day of event) and includes a Fall Sprawl t-shirt\, refreshments and best of all\, the opportunity to meet Easter Seals campers - the people who benefit the most from Fall Sprawl proceeds. Show your support to help children and adults with disabilities enjoy a week of fun\, friendship and memories at Easter Seals Wisconsin&#39\;s Camp Wawbeek or Respite Camp.
LOCATION:1450 Hwy 13\, Wisconsin Dells\, WI
UID:e.1220.3194
SEQUENCE:3
DTSTAMP:20260426T022950Z
URL:http://greatermadisonchamber.chambermaster.com/events/details/fall-sprawl-for-camp-wawbeek-10-05-2013-3194
END:VEVENT

END:VCALENDAR
