BEGIN:VCALENDAR
VERSION:2.0
PRODID:-//ChamberMaster//Event Calendar 2.0//EN
METHOD:PUBLISH
X-PUBLISHED-TTL:P3D
REFRESH-INTERVAL:P3D
CALSCALE:GREGORIAN
BEGIN:VEVENT
DTSTART:20130124T233000Z
DTEND:20130125T013000Z
X-MICROSOFT-CDO-ALLDAYEVENT:FALSE
SUMMARY:FREE Basic Household Plumbing Class
DESCRIPTION:You are invited to attend a FREE\, do-it-yourself based class on basic household plumbing taught by an industry professional and Project Home staff.  Homeowners\, renters\, and questions are always welcome.\n\n	Space in classes is limited and pre-registration is required. Call (608) 246-3737 or email MichelleK@ProjectHomeWI.org to register. For more information please visit Project Home's website\, ProjectHomeWI.org.
X-ALT-DESC;FMTTYPE=text/html:<p class="MsoNormal" style="margin: 0in 0in 0pt">\n	<font color="#000000"><font size="3"><font face="Calibri">You are invited to attend a FREE\, do-it-yourself based class on basic household plumbing taught by an industry professional and Project Home staff.&nbsp\;</font></font></font><o:p><font color="#000000" face="Calibri" size="3">&nbsp\;Homeowners\, renters\, and q</font></o:p><font color="#000000" face="Calibri" size="3">uestions are always welcome.<br />\n	Space in classes is limited and pre-registration is required. Call (608) 246-3737 or email </font><a href="mailto:MichelleK@ProjectHomeWI.org"><font color="#0000ff" face="Calibri" size="3">MichelleK@ProjectHomeWI.org</font></a><font color="#000000" face="Calibri" size="3"> to register. For more information please visit Project Home&rsquo\;s website\, </font><a href="http://www.projecthomewi.org/"><font face="Calibri" size="3">ProjectHomeWI.org</font></a><font size="3"><font color="#000000"><font face="Calibri">. <o:p></o:p></font></font></font></p>\n
LOCATION:1966 S. Stoughton Rd. Madison\, WI 53716
UID:e.1220.2471
SEQUENCE:3
DTSTAMP:20260425T005142Z
URL:http://greatermadisonchamber.chambermaster.com/events/details/free-basic-household-plumbing-class-01-24-2013-2471
END:VEVENT

END:VCALENDAR
