BEGIN:VCALENDAR
VERSION:2.0
PRODID:-//ChamberMaster//Event Calendar 2.0//EN
METHOD:PUBLISH
X-PUBLISHED-TTL:P3D
REFRESH-INTERVAL:P3D
CALSCALE:GREGORIAN
BEGIN:VEVENT
DTSTART:20130604T230000Z
DTEND:20130628T013000Z
X-MICROSOFT-CDO-ALLDAYEVENT:FALSE
SUMMARY:French 1
DESCRIPTION:"French 1" is for students with no previous French experience\, covering basic phonetics\, numbers\, foods\, and travel with very elementary\, uncomplicated verbal communication.
X-ALT-DESC;FMTTYPE=text/html:<p>\n	&quot\;French 1&quot\; is for students with no previous French experience\, covering basic phonetics\, numbers\, foods\, and travel with very elementary\, uncomplicated verbal communication.</p>\n
LOCATION:302 S. Gammon Ave.\, Madison\, Wi.\, 53717
UID:e.1220.2901
SEQUENCE:3
DTSTAMP:20260421T132656Z
URL:http://greatermadisonchamber.chambermaster.com/events/details/french-1-06-04-2013-2901
END:VEVENT

END:VCALENDAR
