BEGIN:VCALENDAR
VERSION:2.0
PRODID:-//ChamberMaster//Event Calendar 2.0//EN
METHOD:PUBLISH
X-PUBLISHED-TTL:P3D
REFRESH-INTERVAL:P3D
CALSCALE:GREGORIAN
BEGIN:VEVENT
DTSTART:20130305T000000Z
DTEND:20130305T010000Z
X-MICROSOFT-CDO-ALLDAYEVENT:FALSE
SUMMARY:Gearing Up!
DESCRIPTION:Join our experts at Machinery Row Bicycles on John Nolan Drive as they showcase the various products for you and your bicycle that will help ensure a comfortable and convenient commute. Bring your bicycle to have it checked out by Machinery Row's mechanics!
X-ALT-DESC;FMTTYPE=text/html:Join our experts at Machinery Row Bicycles on John Nolan Drive as they showcase the various products for you and your bicycle that will help ensure a comfortable and convenient commute. Bring your bicycle to have it checked out by Machinery Row&#39\;s mechanics!<br />\n<br />\n
LOCATION:Machinery Row (601 Williamson Street\, Madison WI 53703)
UID:e.1220.2666
SEQUENCE:3
DTSTAMP:20260423T034406Z
URL:http://greatermadisonchamber.chambermaster.com/events/details/gearing-up-03-04-2013-2666
END:VEVENT

END:VCALENDAR
