BEGIN:VCALENDAR
VERSION:2.0
PRODID:-//ChamberMaster//Event Calendar 2.0//EN
METHOD:PUBLISH
X-PUBLISHED-TTL:P3D
REFRESH-INTERVAL:P3D
CALSCALE:GREGORIAN
BEGIN:VEVENT
DTSTART:20131013T160000Z
DTEND:20131013T170000Z
X-MICROSOFT-CDO-ALLDAYEVENT:FALSE
SUMMARY:Gilda?s Run 2013!
DESCRIPTION:Mark your calendars for Gilda's Run 2013!\n\n	Held on October 13th and featuring a 5K\, 10K and (new this year) a 2 mile walk\, this great event is fun for the whole family! Ending at Gilda's Clubhouse with Ruth's Chris burgers and Culver's sundaes\, this delicious event supports the important work of Gilda's Club Madison\, to ensure that no one faces cancer alone!\n\n	Pre-registration is $30 for adults\, $20 for kids under 13 through October 9th.\n\n	For more information\, to form a team\, or register for the event\, please visit: http://gildasrun2013.kintera.org or contact Teresa Gmur: teresa@gildasclubmadison.org\n\n	We hope you'll be there!
X-ALT-DESC;FMTTYPE=text/html:<p style="margin-bottom:0.0001pt\;line-height:normal">\n	<b>Mark your calendars for Gilda&rsquo\;s Run 2013!</b></p>\n<p style="margin-bottom:0.0001pt\;line-height:normal">\n	Held on October 13<sup>th</sup> and featuring a 5K\, 10K and (new this year) a 2 mile walk\, this great event is fun for the whole family! Ending at Gilda&#39\;s Clubhouse with Ruth&rsquo\;s Chris burgers and Culver&rsquo\;s sundaes\, this delicious event supports the important work of Gilda&rsquo\;s Club Madison\, to ensure that no one faces cancer alone!</p>\n<p style="margin-bottom:0.0001pt\;line-height:normal">\n	Pre-registration is $30 for adults\, $20 for kids under 13 through October 9th.</p>\n<p style="margin-bottom:0.0001pt\;line-height:normal">\n	For more information\, to form a team\, or register for the event\, please visit: <a href="http://gildasrun2013.kintera.org" target="_blank">http://gildasrun2013.kintera.<wbr />org</a> or contact Teresa Gmur: <a href="mailto:teresa@gildasclubmadison.org" target="_blank">teresa@gildasclubmadison.org</a></p>\n<p>\n	We hope you&rsquo\;ll be there!</p>\n
LOCATION:Starts from Ruth's Chris Steakhouse- 2137 Deming Way Middleton\, WI 53562\, and ends at Gilda's Club Madison\, 7907 UW Health Court\, Middleton
UID:e.1220.3249
SEQUENCE:3
DTSTAMP:20260419T193359Z
URL:http://greatermadisonchamber.chambermaster.com/events/details/gilda-s-run-2013-10-13-2013-3249
END:VEVENT

END:VCALENDAR
