BEGIN:VCALENDAR
VERSION:2.0
PRODID:-//ChamberMaster//Event Calendar 2.0//EN
METHOD:PUBLISH
X-PUBLISHED-TTL:P3D
REFRESH-INTERVAL:P3D
CALSCALE:GREGORIAN
BEGIN:VEVENT
DTSTART:20160312T230000Z
DTEND:20160313T030000Z
X-MICROSOFT-CDO-ALLDAYEVENT:FALSE
SUMMARY:Good Hops Fest
DESCRIPTION:The Middleton Baseball and Softball Commission will hold the second annual "Good Hops" beer and wine tasting event on Saturday March 12th from 5PM to 9PM at the Holiday Inn Hotel & Suites--Madison West\, 1109 Fourier Drive in Madison. Tickets are $45 per person purchased in advance. Your ticket includes craft beer and wine tasting from a variety of area breweries and wineries\, hors d'oeuvres\, music\, silent auction and raffles. A cash bar will also be available. Tickets may be purchased online at www.mbscwi.com/goodhops. The MBSC is also looking for sponsors for the event\, along with silent auction and raffle items. Event sponsors or those with silent auction or raffle items may also sign up at the above website. Proceeds from the beer and wine tasting event will be used to fund MBSC youth baseball and softball programs. Event proceeds will also go toward the construction of an indoor practice facility that the MBSC is planning to build at Firefighter's Memorial Park. For more information on this proposed indoor practice facility\, visit www.mbscwi.com/indoorfacility.
X-ALT-DESC;FMTTYPE=text/html:The Middleton Baseball and Softball Commission will hold the second annual &quot\;Good Hops&quot\;&nbsp\;beer and wine tasting event on Saturday March 12th from 5PM to 9PM at the Holiday Inn Hotel &amp\; Suites--Madison West\, 1109 Fourier Drive in Madison. Tickets are $45 per person purchased in advance. Your ticket includes craft beer and wine tasting from a variety of area breweries and wineries\, hors d&#39\;oeuvres\, music\, silent auction and raffles. A cash bar will also be available. Tickets may be purchased online at www.mbscwi.com/goodhops. The MBSC is also looking for sponsors for the event\, along with silent auction and raffle items. Event sponsors or those with silent auction or raffle items may also sign up at the above website. Proceeds from the beer and wine tasting event will be used to fund MBSC youth baseball and softball programs. Event proceeds will also go toward the construction of an indoor practice facility that the MBSC is planning to build at Firefighter&#39\;s Memorial Park. For more information on this proposed indoor practice facility\, visit www.mbscwi.com/indoorfacility.
LOCATION:Holiday Inn Hotel and Suites--Madison West 1109 Fourier Drive Madison
UID:e.1220.11236
SEQUENCE:3
DTSTAMP:20260421T083551Z
URL:http://greatermadisonchamber.chambermaster.com/events/details/good-hops-fest-03-12-2016-11236
END:VEVENT

END:VCALENDAR
