BEGIN:VCALENDAR
VERSION:2.0
PRODID:-//ChamberMaster//Event Calendar 2.0//EN
METHOD:PUBLISH
X-PUBLISHED-TTL:P3D
REFRESH-INTERVAL:P3D
CALSCALE:GREGORIAN
BEGIN:VEVENT
DTSTART:20130313T133000Z
DTEND:20130313T170000Z
X-MICROSOFT-CDO-ALLDAYEVENT:FALSE
SUMMARY:Google Analytics 101
DESCRIPTION:Google Analytics 101 introduces you to the basic concepts of web analytics and teaches you how to use Google Analytics to generate detailed reports and information about website visitors\, including insights into traffic\, user behavior\, and marketing effectiveness. Participants will leave with a better understanding of how Google Analytics works and which reports provide the most actionable business intelligence.
X-ALT-DESC;FMTTYPE=text/html:Google Analytics 101 introduces you to the basic concepts of web analytics and teaches you how to use Google Analytics to generate detailed reports and information about website visitors\, including insights into traffic\, user behavior\, and marketing effectiveness. Participants will leave with a better understanding of how Google Analytics works and which reports provide the most actionable business intelligence.<br />\n<br />\n
LOCATION:UW Madison Grainger Hall 975 University Ave
UID:e.1220.2693
SEQUENCE:3
DTSTAMP:20260422T233821Z
URL:http://greatermadisonchamber.chambermaster.com/events/details/google-analytics-101-03-13-2013-2693
END:VEVENT

END:VCALENDAR
