BEGIN:VCALENDAR
VERSION:2.0
PRODID:-//ChamberMaster//Event Calendar 2.0//EN
METHOD:PUBLISH
X-PUBLISHED-TTL:P3D
REFRESH-INTERVAL:P3D
CALSCALE:GREGORIAN
BEGIN:VEVENT
DTSTART:20121211T000000Z
DTEND:20121212T030000Z
X-MICROSOFT-CDO-ALLDAYEVENT:FALSE
SUMMARY:Grant and Program Evaluation
DESCRIPTION:Evaluation components are the key to winning grant proposals and managing the award. Learn how to develop a winning evaluation strategy required by grant makers. Topics: connecting w/Stakeholders\, grant outcomes\, collecting & analyzing data\,& reporting.
X-ALT-DESC;FMTTYPE=text/html:Evaluation components are the key to winning grant proposals and managing the award. Learn how to develop a winning evaluation strategy required by grant makers. Topics: connecting w/Stakeholders\, grant outcomes\, collecting &amp\; analyzing data\,&amp\; reporting.
LOCATION:302 S. Gammon Rd. Madison\, WI 53717
UID:e.1220.2512
SEQUENCE:3
DTSTAMP:20260424T131343Z
URL:http://greatermadisonchamber.chambermaster.com/events/details/grant-and-program-evaluation-12-10-2012-2512
END:VEVENT

END:VCALENDAR
