BEGIN:VCALENDAR
VERSION:2.0
PRODID:-//ChamberMaster//Event Calendar 2.0//EN
METHOD:PUBLISH
X-PUBLISHED-TTL:P3D
REFRESH-INTERVAL:P3D
CALSCALE:GREGORIAN
BEGIN:VEVENT
DTSTART:20130611T230000Z
DTEND:20130710T020000Z
X-MICROSOFT-CDO-ALLDAYEVENT:FALSE
SUMMARY:Grant Writing Essentials
DESCRIPTION:Covers skills new grant writers need to develop & write successful grant proposals\, including searching for grant makers\, writing an abstract & needs statement\, effective outcomes and budget. Course will apply to public or private grant writing situation
X-ALT-DESC;FMTTYPE=text/html:<p>\n	Covers skills new grant writers need to develop &amp\; write successful grant proposals\, including searching for grant makers\, writing an abstract &amp\; needs statement\, effective outcomes and budget. Course will apply to public or private grant writing situation</p>\n
LOCATION:302 S. Gammon Rd.\, Madison\, WI. 53717
UID:e.1220.2941
SEQUENCE:3
DTSTAMP:20260419T215153Z
URL:http://greatermadisonchamber.chambermaster.com/events/details/grant-writing-essentials-06-11-2013-2941
END:VEVENT

END:VCALENDAR
